BEGIN:VCALENDAR
VERSION:2.0
PRODID:-//Chautauqua Institution - ECPv6.15.20//NONSGML v1.0//EN
CALSCALE:GREGORIAN
METHOD:PUBLISH
X-WR-CALNAME:Chautauqua Institution
X-ORIGINAL-URL:https://www.chq.org
X-WR-CALDESC:Events for Chautauqua Institution
REFRESH-INTERVAL;VALUE=DURATION:PT1H
X-Robots-Tag:noindex
X-PUBLISHED-TTL:PT1H
BEGIN:VTIMEZONE
TZID:America/New_York
BEGIN:DAYLIGHT
TZOFFSETFROM:-0500
TZOFFSETTO:-0400
TZNAME:EDT
DTSTART:20250309T070000
END:DAYLIGHT
BEGIN:STANDARD
TZOFFSETFROM:-0400
TZOFFSETTO:-0500
TZNAME:EST
DTSTART:20251102T060000
END:STANDARD
BEGIN:DAYLIGHT
TZOFFSETFROM:-0500
TZOFFSETTO:-0400
TZNAME:EDT
DTSTART:20260308T070000
END:DAYLIGHT
BEGIN:STANDARD
TZOFFSETFROM:-0400
TZOFFSETTO:-0500
TZNAME:EST
DTSTART:20261101T060000
END:STANDARD
BEGIN:DAYLIGHT
TZOFFSETFROM:-0500
TZOFFSETTO:-0400
TZNAME:EDT
DTSTART:20270314T070000
END:DAYLIGHT
BEGIN:STANDARD
TZOFFSETFROM:-0400
TZOFFSETTO:-0500
TZNAME:EST
DTSTART:20271107T060000
END:STANDARD
END:VTIMEZONE
BEGIN:VEVENT
DTSTART;TZID=America/New_York:20260709T121500
DTEND;TZID=America/New_York:20260709T121500
DTSTAMP:20260421T105237
CREATED:20260114T161518Z
LAST-MODIFIED:20260318T173038Z
UID:97468-1783599300-1783599300@www.chq.org
SUMMARY:CTC Theater Chats
DESCRIPTION:Theater Chats (formerly known as Brown Bags)  \n On selected Thursdays at 12:15 p.m.\, bring lunch to Smith Wilkes Hall and join special guests\, including actors\, designers\, playwrights and more\, for a look at our upcoming productions and discussions on the craft of theater-making. Free and open to the public.
URL:https://www.chq.org/event/ctc-theater-chats-12/
LOCATION:Smith Wilkes Hall\, Smith Wilkes Hall
CATEGORIES:Chautauqua Institution Program,Week Two (July 4–11),Weekly Themes,Theater
ATTACH;FMTTYPE=image/png:https://www.chq.org/wp-content/uploads/2024/06/Theater-Chat-Website-Image.png
END:VEVENT
END:VCALENDAR