BEGIN:VCALENDAR
VERSION:2.0
PRODID:-//Chautauqua Institution - ECPv6.15.20//NONSGML v1.0//EN
CALSCALE:GREGORIAN
METHOD:PUBLISH
X-WR-CALNAME:Chautauqua Institution
X-ORIGINAL-URL:https://www.chq.org
X-WR-CALDESC:Events for Chautauqua Institution
REFRESH-INTERVAL;VALUE=DURATION:PT1H
X-Robots-Tag:noindex
X-PUBLISHED-TTL:PT1H
BEGIN:VTIMEZONE
TZID:America/New_York
BEGIN:DAYLIGHT
TZOFFSETFROM:-0500
TZOFFSETTO:-0400
TZNAME:EDT
DTSTART:20250309T070000
END:DAYLIGHT
BEGIN:STANDARD
TZOFFSETFROM:-0400
TZOFFSETTO:-0500
TZNAME:EST
DTSTART:20251102T060000
END:STANDARD
BEGIN:DAYLIGHT
TZOFFSETFROM:-0500
TZOFFSETTO:-0400
TZNAME:EDT
DTSTART:20260308T070000
END:DAYLIGHT
BEGIN:STANDARD
TZOFFSETFROM:-0400
TZOFFSETTO:-0500
TZNAME:EST
DTSTART:20261101T060000
END:STANDARD
BEGIN:DAYLIGHT
TZOFFSETFROM:-0500
TZOFFSETTO:-0400
TZNAME:EDT
DTSTART:20270314T070000
END:DAYLIGHT
BEGIN:STANDARD
TZOFFSETFROM:-0400
TZOFFSETTO:-0500
TZNAME:EST
DTSTART:20271107T060000
END:STANDARD
END:VTIMEZONE
BEGIN:VEVENT
DTSTART;TZID=America/New_York:20260628T150000
DTEND;TZID=America/New_York:20260628T150000
DTSTAMP:20260420T061556
CREATED:20260225T221527Z
LAST-MODIFIED:20260407T190023Z
UID:97983-1782658800-1782658800@www.chq.org
SUMMARY:"Forest for the Trees" Exhibition Opening Reception
DESCRIPTION:“Forest for the Trees” opening reception. Exhibition runs June 28 – August 9. Forest for the Trees is a sylvan-themed exhibition with a focus on the positive impact of forest ecosystems and the need to preserve them. Each artist focuses on different bionetworks on the forest floor or within the trees. Using paint\, textiles\, sculpture\, and light-based processes\, they also remind us to consider the bigger picture of what is at stake if we disrupt our woodlands. This exhibition is generously sponsored by Kay Hardesty Logan Foundation. Curated by Erika Diamond.  \nArtists: Addyson Aftanas\, Colby Caldwell\, Joan Elliott\, Anna Johnson\, Colleen Toledano\, Melissa Webb\, Tali Weinberg
URL:https://www.chq.org/event/forest-for-the-trees-exhibition-opening-reception/
LOCATION:Fowler-Kellogg Art Center: 1st Floor
CATEGORIES:Chautauqua Institution Program,Week One (June 27–July 4),Weekly Themes,Gallery Exhibitions,Visual Arts
ATTACH;FMTTYPE=image/jpeg:https://www.chq.org/wp-content/uploads/2026/03/Forest-for-the-Trees-exhibition-image.jpg
END:VEVENT
END:VCALENDAR