BEGIN:VCALENDAR
VERSION:2.0
PRODID:-//Chautauqua Institution - ECPv6.15.20//NONSGML v1.0//EN
CALSCALE:GREGORIAN
METHOD:PUBLISH
X-WR-CALNAME:Chautauqua Institution
X-ORIGINAL-URL:https://www.chq.org
X-WR-CALDESC:Events for Chautauqua Institution
REFRESH-INTERVAL;VALUE=DURATION:PT1H
X-Robots-Tag:noindex
X-PUBLISHED-TTL:PT1H
BEGIN:VTIMEZONE
TZID:America/New_York
BEGIN:DAYLIGHT
TZOFFSETFROM:-0500
TZOFFSETTO:-0400
TZNAME:EDT
DTSTART:20250309T070000
END:DAYLIGHT
BEGIN:STANDARD
TZOFFSETFROM:-0400
TZOFFSETTO:-0500
TZNAME:EST
DTSTART:20251102T060000
END:STANDARD
BEGIN:DAYLIGHT
TZOFFSETFROM:-0500
TZOFFSETTO:-0400
TZNAME:EDT
DTSTART:20260308T070000
END:DAYLIGHT
BEGIN:STANDARD
TZOFFSETFROM:-0400
TZOFFSETTO:-0500
TZNAME:EST
DTSTART:20261101T060000
END:STANDARD
BEGIN:DAYLIGHT
TZOFFSETFROM:-0500
TZOFFSETTO:-0400
TZNAME:EDT
DTSTART:20270314T070000
END:DAYLIGHT
BEGIN:STANDARD
TZOFFSETFROM:-0400
TZOFFSETTO:-0500
TZNAME:EST
DTSTART:20271107T060000
END:STANDARD
END:VTIMEZONE
BEGIN:VEVENT
DTSTART;TZID=America/New_York:20260823T153000
DTEND;TZID=America/New_York:20260823T153000
DTSTAMP:20260421T202515
CREATED:20260416T191603Z
LAST-MODIFIED:20260416T191603Z
UID:99082-1787499000-1787499000@www.chq.org
SUMMARY:January Gill O'Neil and Jimin Han
DESCRIPTION:Chautauqua Writers’ Center Faculty Reading— Featuring January Gill O’Neil (Poetry) and Jimin Han (Prose) \nJanuary Gill O’Neil is a professor at Salem State University and the author of Glitter Road (2024)\, Rewilding( 2018)\, Misery Islands (2014)\, and Underlife (2009)\, all published by CavanKerry Press. Glitter Road received the 2024 Poetry by the Sea Best Book Award and the Julia Ward Howe Prize and was a finalist for several honors\, including the Massachusetts Book Award. Her work has appeared in The New York Times Magazine\, Poetry\, The Nation\, and American Poetry Review. A Cave Canem fellow\, she served as executive director of the Massachusetts Poetry Festival from 2012 to 2018 and was the 2019–2020 John and Renée Grisham Writer-in-Residence at the University of Mississippi. She is a former chair of the AWP Board of Directors and its longest-serving current board member\, and she teaches graduate poetry writing in the summer program at Middlebury College’s Bread Loaf School of English.  \nJimin Han is the author of three novels\, Dreamt I Found You\, A Small Revolution\, and The Apology\, which was a Barnes and Noble Discover Pick\, named a best audiobook of the year by Booklist\, and featured on multiple best books lists by the Los Angeles Times\, Vanity Fair\, Shondaland\, Apple Books and more. Additional writing of hers can be found on NPR\, as well as in Poets & Writers\, Literary Hub\, and other publications. She teaches at The Writing Institute at Sarah Lawrence College and community writing centers. Her work has been supported by the New York State Council on the Arts. Born in South Korea\, she grew up in Providence\, Rhode Island; Dayton\, Ohio; and Jamestown\, New York. Currently\, she lives outside New York City.
URL:https://www.chq.org/event/january-gill-oneil-and-jimin-han/
LOCATION:Hall of Philosophy\, Hall of Philosophy
CATEGORIES:Chautauqua Institution Program,Weekly Themes,Chautauqua Writers’ Center,Week Nine (August 22–30),Literary Arts
ATTACH;FMTTYPE=image/jpeg:https://www.chq.org/wp-content/uploads/2026/04/WritersCenter_Wk9_2026.jpg
END:VEVENT
END:VCALENDAR