BEGIN:VCALENDAR
VERSION:2.0
PRODID:-//Chautauqua Institution - ECPv6.15.20//NONSGML v1.0//EN
CALSCALE:GREGORIAN
METHOD:PUBLISH
X-WR-CALNAME:Chautauqua Institution
X-ORIGINAL-URL:https://www.chq.org
X-WR-CALDESC:Events for Chautauqua Institution
REFRESH-INTERVAL;VALUE=DURATION:PT1H
X-Robots-Tag:noindex
X-PUBLISHED-TTL:PT1H
BEGIN:VTIMEZONE
TZID:America/New_York
BEGIN:DAYLIGHT
TZOFFSETFROM:-0500
TZOFFSETTO:-0400
TZNAME:EDT
DTSTART:20250309T070000
END:DAYLIGHT
BEGIN:STANDARD
TZOFFSETFROM:-0400
TZOFFSETTO:-0500
TZNAME:EST
DTSTART:20251102T060000
END:STANDARD
BEGIN:DAYLIGHT
TZOFFSETFROM:-0500
TZOFFSETTO:-0400
TZNAME:EDT
DTSTART:20260308T070000
END:DAYLIGHT
BEGIN:STANDARD
TZOFFSETFROM:-0400
TZOFFSETTO:-0500
TZNAME:EST
DTSTART:20261101T060000
END:STANDARD
BEGIN:DAYLIGHT
TZOFFSETFROM:-0500
TZOFFSETTO:-0400
TZNAME:EDT
DTSTART:20270314T070000
END:DAYLIGHT
BEGIN:STANDARD
TZOFFSETFROM:-0400
TZOFFSETTO:-0500
TZNAME:EST
DTSTART:20271107T060000
END:STANDARD
END:VTIMEZONE
BEGIN:VEVENT
DTSTART;TZID=America/New_York:20260714T140000
DTEND;TZID=America/New_York:20260714T140000
DTSTAMP:20260424T122410
CREATED:20260421T140000Z
LAST-MODIFIED:20260421T140000Z
UID:99147-1784037600-1784037600@www.chq.org
SUMMARY:Najeeba Syeed
DESCRIPTION:El-Hibri Endowed Chair and executive director of the Interfaith Institute\, Augsburg University  \n2:00 p.m. Tuesday\, July 14\, 2026 · Hall of Philosophy  \nNajeeba Syeed is the Inaugural El-Bibri endowed chair and executive director of the Interfaith Institute and is a tenured and full professor of religion at Augsburg University. She is also a senior fellow at the Oxford Interfaith Forum.  \nSyeed has served as a visiting professor at Yale and Mercer University. She is an expert on Muslim-Jewish relations and has worked extensively on Evangelical Christian and Muslim relations throughout the country. She served as associate professor of interreligious education and director of the Center for Global Peacebuilding at Claremont School of Theology from 2010-2020.  \nSyeed also brings significant executive experience with organizations as an executive director focused on conflict resolution in community\, higher education and government settings\, including the Western Justice Center Foundation and the Asian Pacific American Dispute Resolution Center. In 2021\, she served as chief of staff to an elected member of the Los Angeles City Council. She holds a law degree from Indiana University.
URL:https://www.chq.org/event/najeeba-syeed/
LOCATION:Hall of Philosophy\, Hall of Philosophy
CATEGORIES:Chautauqua Institution Program,Week Three (July 11–18),Weekly Themes,CHQ Assembly,Interfaith Lecture Series
ATTACH;FMTTYPE=image/jpeg:https://www.chq.org/wp-content/uploads/2026/04/Syeed_Najeeba_ILS_071426.jpg
END:VEVENT
END:VCALENDAR