BEGIN:VCALENDAR
VERSION:2.0
PRODID:-//Chautauqua Institution - ECPv6.15.20//NONSGML v1.0//EN
CALSCALE:GREGORIAN
METHOD:PUBLISH
X-WR-CALNAME:Chautauqua Institution
X-ORIGINAL-URL:https://www.chq.org
X-WR-CALDESC:Events for Chautauqua Institution
REFRESH-INTERVAL;VALUE=DURATION:PT1H
X-Robots-Tag:noindex
X-PUBLISHED-TTL:PT1H
BEGIN:VTIMEZONE
TZID:America/New_York
BEGIN:DAYLIGHT
TZOFFSETFROM:-0500
TZOFFSETTO:-0400
TZNAME:EDT
DTSTART:20250309T070000
END:DAYLIGHT
BEGIN:STANDARD
TZOFFSETFROM:-0400
TZOFFSETTO:-0500
TZNAME:EST
DTSTART:20251102T060000
END:STANDARD
BEGIN:DAYLIGHT
TZOFFSETFROM:-0500
TZOFFSETTO:-0400
TZNAME:EDT
DTSTART:20260308T070000
END:DAYLIGHT
BEGIN:STANDARD
TZOFFSETFROM:-0400
TZOFFSETTO:-0500
TZNAME:EST
DTSTART:20261101T060000
END:STANDARD
BEGIN:DAYLIGHT
TZOFFSETFROM:-0500
TZOFFSETTO:-0400
TZNAME:EDT
DTSTART:20270314T070000
END:DAYLIGHT
BEGIN:STANDARD
TZOFFSETFROM:-0400
TZOFFSETTO:-0500
TZNAME:EST
DTSTART:20271107T060000
END:STANDARD
END:VTIMEZONE
BEGIN:VEVENT
DTSTART;TZID=America/New_York:20260710T104500
DTEND;TZID=America/New_York:20260710T104500
DTSTAMP:20260422T050910
CREATED:20260114T150000Z
LAST-MODIFIED:20260408T193019Z
UID:97463-1783680300-1783680300@www.chq.org
SUMMARY:Neil deGrasse Tyson and Scott Hamilton Kennedy
DESCRIPTION:World-renowned astrophysicist Neil deGrasse Tyson and filmmaker Scott Hamilton Kennedy have twice joined forces to confront the twin crises of misinformation and science denial. Their documentaries — “Food Evolution\,” which resets the GMO debate\, and “Shot in the Arm\,” begun in 2019 as measles resurged and transformed by COVID-19 — show how narrative can rescue facts from the fog of controversy and rekindle public trust in science. The pair will close the Chautauqua Lecture Series week dedicated to “Breaking the News: Charting a New Media Landscape” with a conversation on trust and media literacy\, with lessons and tips on how to be a good consumer of information and news.  \nNeil deGrasse Tyson is an astrophysicist and the director of the Hayden Planetarium at the American Museum of Natural History\, where he has served since 1996. Collaborating with Scott Hamilton Kennedy of Black Valley Films\, Tyson is the executive producer of “Shot in the Arm” and narrator of “Food Evolution.”  \nHe is the author of 19 books\, including the New York Times bestsellers Starry Messenger: Cosmic Perspectives on Civilization and Astrophysics for People in a Hurry. His latest work\, Just Visiting This Planet\, was released in October 2025.  \nTyson is the two-time host of the beloved TV series “Cosmos” — rebooting the original 1980 series hosted by Carl Sagan. He is also the host and cofounder of the popular Emmy-nominated podcast “StarTalk\,” which combines science\, humor\, and pop culture. 2026 marks the 17th anniversary of “StarTalk.”  \nTyson is a recipient of 28 honorary degrees\, the Public Welfare Medal from the National Academy of Sciences\, and the Distinguished Public Service Medal from NASA. Asteroid 13123 Tyson is named in his honor. He lives in New York City.  \nScott Hamilton Kennedy is an Academy Award–nominated filmmaker\, director\, journalist and educator. He founded the production company\, Black Valley Films. In addition to “Shot in the Arm” and “Food Evolution\,” Kennedy’s other work includes the Oscar-nominated documentary “The Garden\,” the Independent Spirit–nominated “OT: Our Town” and the fan-favorite “Fame High.”  \nWith “Food Evolution” and “Shot in the Arm\,” Kennedy focused on the collision between scientific evidence and public perception\, beginning his collaboration with Tyson. “Food Evolution” mapped the early contours of science denialism around food\, while “Shot in the Arm” captured vaccine hesitancy and the social fractures revealed by COVID-19. Together\, the films anticipated the rise of Robert F. Kennedy Jr. and the Make America Healthy Again (MAHA) movement. The filmmaker Kennedy’s work continues this trajectory with “Toxic\,” investigating the machinery of disinformation\, and “A More Perfect Union\,” a civic-literacy initiative designed to help audiences navigate the information ecosystem and rebuild trust. Kennedy approaches all his work with the belief that storytelling is a public service—one of humanity’s most powerful tools for understanding and repairing the world.
URL:https://www.chq.org/event/neil-degrasse-tyson-and-scott-hamilton-kennedy/
LOCATION:Amphitheater\, Amphitheater
CATEGORIES:Chautauqua Institution Program,Chautauqua Lecture Series,Week Two (July 4–11),Weekly Themes,CHQ Assembly
ATTACH;FMTTYPE=image/jpeg:https://www.chq.org/wp-content/uploads/2026/01/CLS_Tyson-Kennedy_071026.jpg
END:VEVENT
END:VCALENDAR