BEGIN:VCALENDAR
VERSION:2.0
PRODID:-//Chautauqua Institution - ECPv6.15.20//NONSGML v1.0//EN
CALSCALE:GREGORIAN
METHOD:PUBLISH
X-WR-CALNAME:Chautauqua Institution
X-ORIGINAL-URL:https://www.chq.org
X-WR-CALDESC:Events for Chautauqua Institution
REFRESH-INTERVAL;VALUE=DURATION:PT1H
X-Robots-Tag:noindex
X-PUBLISHED-TTL:PT1H
BEGIN:VTIMEZONE
TZID:America/New_York
BEGIN:DAYLIGHT
TZOFFSETFROM:-0500
TZOFFSETTO:-0400
TZNAME:EDT
DTSTART:20250309T070000
END:DAYLIGHT
BEGIN:STANDARD
TZOFFSETFROM:-0400
TZOFFSETTO:-0500
TZNAME:EST
DTSTART:20251102T060000
END:STANDARD
BEGIN:DAYLIGHT
TZOFFSETFROM:-0500
TZOFFSETTO:-0400
TZNAME:EDT
DTSTART:20260308T070000
END:DAYLIGHT
BEGIN:STANDARD
TZOFFSETFROM:-0400
TZOFFSETTO:-0500
TZNAME:EST
DTSTART:20261101T060000
END:STANDARD
BEGIN:DAYLIGHT
TZOFFSETFROM:-0500
TZOFFSETTO:-0400
TZNAME:EDT
DTSTART:20270314T070000
END:DAYLIGHT
BEGIN:STANDARD
TZOFFSETFROM:-0400
TZOFFSETTO:-0500
TZNAME:EST
DTSTART:20271107T060000
END:STANDARD
END:VTIMEZONE
BEGIN:VEVENT
DTSTART;TZID=America/New_York:20260705T153000
DTEND;TZID=America/New_York:20260705T153000
DTSTAMP:20260421T011702
CREATED:20260416T191557Z
LAST-MODIFIED:20260416T191557Z
UID:99075-1783265400-1783265400@www.chq.org
SUMMARY:Noah Falck and Sunita Puri
DESCRIPTION:Chautauqua Writers’ Center Faculty Reading — Featuring Noah Falck (Poetry) and Sunita Puri (Prose) \nNoah Falck is the author of Exclusions (Tupelo Press\, 2020) which was a finalist for the Believer Book Award and the co-authored collection Prerecorded Weather (SurVision Books\, 2022) winner of the James Tate Poetry Prize. He released a limited-edition record Fatigue Performance in collaboration with artist Ariel Aberg-Riger and the band Plant Water. His poems have been published in The Kenyon Review\, Literary Hub\, Poetry Daily\, Poets.org and anthologized in Poem-a-Day: 365 Poems for Every Occasion. In 2013\, he founded the Silo City Reading Series\, an immersive\, multimedia poetry event series that takes place inside a 120-foot-high\, 100-year-old abandoned grain elevator. He works as Literary Director at Just Buffalo Literary Center and lives in Buffalo\, New York.  \nDr. Sunita Puri is an Associate Professor of Medicine at the University of California\, Irvine School of Medicine\, where she is the Director of the Inpatient Palliative Care Service. A 2025 Literature Fellow of the Bogliasco Foundation\, she is the author of That Good Night: Life and Medicine in the Eleventh Hour\, a critically acclaimed literary memoir examining her journey to the practice of palliative medicine\, and her quest to help patients and families redefine what it means to live and die well in the face of serious illness. A graduate of Yale University and the recipient of a Rhodes Scholarship\, her writing has appeared in the New Yorker\, Atlantic\, New York Times\, Los Angeles Times\, Tricycle\, Slate\, Wall Street Journal\, and the Journal of the American Medical Association\, among other places. She and her work have been featured in the Atlantic\, People Magazine\, PBS’ Christian Amanpour Show\, NPR\, the Guardian\, BBC\, India Today\, and Literary Hub. In 2019\, the Guardian made a mini-documentary of her work with her patients\, which has been viewed over 3.5 million times. She has been awarded writing residencies at the Bogliasco Foundation\, MacDowell\, Yaddo\, Hedgebrook\, Mesa Refuge\, and UCross. A sought-after speaker who has delivered lectures around the world\, Dr. Puri is passionate about the ways that the precise and compassionate use of language can empower patients and physicians to have the right conversations about living and dying.
URL:https://www.chq.org/event/noah-falck-and-sunita-puri/
LOCATION:Hall of Philosophy\, Hall of Philosophy
CATEGORIES:Chautauqua Institution Program,Week Two (July 4–11),Weekly Themes,Chautauqua Writers’ Center,Literary Arts
ATTACH;FMTTYPE=image/jpeg:https://www.chq.org/wp-content/uploads/2026/04/WritersCenter_Wk2_2026.jpg
END:VEVENT
END:VCALENDAR