BEGIN:VCALENDAR
VERSION:2.0
PRODID:-//Chautauqua Institution - ECPv6.15.20//NONSGML v1.0//EN
CALSCALE:GREGORIAN
METHOD:PUBLISH
X-WR-CALNAME:Chautauqua Institution
X-ORIGINAL-URL:https://www.chq.org
X-WR-CALDESC:Events for Chautauqua Institution
REFRESH-INTERVAL;VALUE=DURATION:PT1H
X-Robots-Tag:noindex
X-PUBLISHED-TTL:PT1H
BEGIN:VTIMEZONE
TZID:America/New_York
BEGIN:DAYLIGHT
TZOFFSETFROM:-0500
TZOFFSETTO:-0400
TZNAME:EDT
DTSTART:20250309T070000
END:DAYLIGHT
BEGIN:STANDARD
TZOFFSETFROM:-0400
TZOFFSETTO:-0500
TZNAME:EST
DTSTART:20251102T060000
END:STANDARD
BEGIN:DAYLIGHT
TZOFFSETFROM:-0500
TZOFFSETTO:-0400
TZNAME:EDT
DTSTART:20260308T070000
END:DAYLIGHT
BEGIN:STANDARD
TZOFFSETFROM:-0400
TZOFFSETTO:-0500
TZNAME:EST
DTSTART:20261101T060000
END:STANDARD
BEGIN:DAYLIGHT
TZOFFSETFROM:-0500
TZOFFSETTO:-0400
TZNAME:EDT
DTSTART:20270314T070000
END:DAYLIGHT
BEGIN:STANDARD
TZOFFSETFROM:-0400
TZOFFSETTO:-0500
TZNAME:EST
DTSTART:20271107T060000
END:STANDARD
END:VTIMEZONE
BEGIN:VEVENT
DTSTART;TZID=America/New_York:20260820T140000
DTEND;TZID=America/New_York:20260820T140000
DTSTAMP:20260420T061506
CREATED:20260414T140000Z
LAST-MODIFIED:20260415T131557Z
UID:99005-1787234400-1787234400@www.chq.org
SUMMARY:Norman Wirzba
DESCRIPTION:Norman Wirzba is Gilbert T. Rowe Distinguished Professor of Christian Theology & Senior Fellow at the Kenan Institute of Ethics at Duke University. His research and teaching interests are at the intersections of theology\, philosophy\, ecology\, and agrarian and environmental studies. He is the author of Love’s Braided Dance: Hope in a Time of Crisis and Food and Faith: A Theology of Eating. Raised on a farm in Southern Alberta\, Norman went on to study history at the University of Lethbridge\, theology at Yale University Divinity School\, and philosophy at Loyola University Chicago. Since then he has taught at Saint Thomas More College/University of Saskatchewan\, Georgetown College (KY)\, and Duke University Divinity School. He’s the father of four children and is married to Gretchen Ziegenhals. He likes to bake\, cook and make things with wood. He also enjoys playing the guitar. He used to be a good athlete! He enjoys being outdoors and spending time with his family and friends. He tries to grow some food.
URL:https://www.chq.org/event/norman-wirzba/
LOCATION:Hall of Philosophy\, Hall of Philosophy
CATEGORIES:Chautauqua Institution Program,Weekly Themes,Week Eight (August 15–22),CHQ Assembly,Interfaith Lecture Series
ATTACH;FMTTYPE=image/jpeg:https://www.chq.org/wp-content/uploads/2026/04/Wirzba_Norman_ILS_082026.jpg
END:VEVENT
END:VCALENDAR