BEGIN:VCALENDAR
VERSION:2.0
PRODID:-//Chautauqua Institution - ECPv6.15.20//NONSGML v1.0//EN
CALSCALE:GREGORIAN
METHOD:PUBLISH
X-WR-CALNAME:Chautauqua Institution
X-ORIGINAL-URL:https://www.chq.org
X-WR-CALDESC:Events for Chautauqua Institution
REFRESH-INTERVAL;VALUE=DURATION:PT1H
X-Robots-Tag:noindex
X-PUBLISHED-TTL:PT1H
BEGIN:VTIMEZONE
TZID:America/New_York
BEGIN:DAYLIGHT
TZOFFSETFROM:-0500
TZOFFSETTO:-0400
TZNAME:EDT
DTSTART:20250309T070000
END:DAYLIGHT
BEGIN:STANDARD
TZOFFSETFROM:-0400
TZOFFSETTO:-0500
TZNAME:EST
DTSTART:20251102T060000
END:STANDARD
BEGIN:DAYLIGHT
TZOFFSETFROM:-0500
TZOFFSETTO:-0400
TZNAME:EDT
DTSTART:20260308T070000
END:DAYLIGHT
BEGIN:STANDARD
TZOFFSETFROM:-0400
TZOFFSETTO:-0500
TZNAME:EST
DTSTART:20261101T060000
END:STANDARD
BEGIN:DAYLIGHT
TZOFFSETFROM:-0500
TZOFFSETTO:-0400
TZNAME:EDT
DTSTART:20270314T070000
END:DAYLIGHT
BEGIN:STANDARD
TZOFFSETFROM:-0400
TZOFFSETTO:-0500
TZNAME:EST
DTSTART:20271107T060000
END:STANDARD
END:VTIMEZONE
BEGIN:VEVENT
DTSTART;TZID=America/New_York:20260712T153000
DTEND;TZID=America/New_York:20260712T153000
DTSTAMP:20260425T144036
CREATED:20260416T191558Z
LAST-MODIFIED:20260416T191558Z
UID:99076-1783870200-1783870200@www.chq.org
SUMMARY:Sony Ton-Aime and Lauren Francis-Sharma
DESCRIPTION:Chautauqua Writers’ Center Faculty Reading — Featuring Sony Ton-Aime (Poetry) and Lauren Francis-Sharma (Prose) \nSony Ton-Aime is a Haitian poet\, essayist\, translator\, and Executive Director of Pittsburgh Arts and Lectures. He is the author of the poetry collection\, Konbit (2026\, CMU Press)\, the chapbook\, LaWomann (2019)\, the Haitian Creole translation of Olympic Hero: The Lennox Kilgour’s Story\, and co-founding editor of ID13. His work has appeared and is forthcoming in Artful Dodge\, Cream City Review\, Idaho Review\, Hunger Mountain Review\, and Cleveland Review of Books\, Consequence Forum\, among others.  \nA child of Trinidadian immigrants\, Lauren Francis-Sharma is the author of the critically acclaimed novels ’Til the Well Runs Dry (Picador\, 2014)\, and Book of the Little Axe (Grove Atlantic\, 2020)\, which was the 2020 American Library Association’s “Libraries Transform Book Pick” and finalist for the Hurston/Wright Award in Fiction. Casualties of Truth (Grove Atlantic\, 2025)\, her most recent book\, is a riveting literary novel with the sharp edges of a thriller about the abuses of history and the costs of revenge\, set between Washington\, D.C.\, and Johannesburg\, South Africa.   \nFrancis-Sharma was a MacDowell fellow and is the Assistant Director of Bread Loaf Writers’ Conference at Middlebury College. She holds a BA from UPENN\, a J.D. from the University of Michigan Law School\, and an MFA from the MFA Program for Writers at Warren Wilson College. She resides near Washington\, DC\, with her family.
URL:https://www.chq.org/event/sony-ton-aime-and-lauren-francis-sharma/
LOCATION:Hall of Philosophy\, Hall of Philosophy
CATEGORIES:Chautauqua Institution Program,Week Three (July 11–18),Weekly Themes,Chautauqua Writers’ Center,Literary Arts
ATTACH;FMTTYPE=image/jpeg:https://www.chq.org/wp-content/uploads/2026/04/WritersCenter_Wk3_2026.jpg
END:VEVENT
END:VCALENDAR