BEGIN:VCALENDAR
VERSION:2.0
PRODID:-//Chautauqua Institution - ECPv6.15.20//NONSGML v1.0//EN
CALSCALE:GREGORIAN
METHOD:PUBLISH
X-WR-CALNAME:Chautauqua Institution
X-ORIGINAL-URL:https://www.chq.org
X-WR-CALDESC:Events for Chautauqua Institution
REFRESH-INTERVAL;VALUE=DURATION:PT1H
X-Robots-Tag:noindex
X-PUBLISHED-TTL:PT1H
BEGIN:VTIMEZONE
TZID:America/New_York
BEGIN:DAYLIGHT
TZOFFSETFROM:-0500
TZOFFSETTO:-0400
TZNAME:EDT
DTSTART:20250309T070000
END:DAYLIGHT
BEGIN:STANDARD
TZOFFSETFROM:-0400
TZOFFSETTO:-0500
TZNAME:EST
DTSTART:20251102T060000
END:STANDARD
BEGIN:DAYLIGHT
TZOFFSETFROM:-0500
TZOFFSETTO:-0400
TZNAME:EDT
DTSTART:20260308T070000
END:DAYLIGHT
BEGIN:STANDARD
TZOFFSETFROM:-0400
TZOFFSETTO:-0500
TZNAME:EST
DTSTART:20261101T060000
END:STANDARD
BEGIN:DAYLIGHT
TZOFFSETFROM:-0500
TZOFFSETTO:-0400
TZNAME:EDT
DTSTART:20270314T070000
END:DAYLIGHT
BEGIN:STANDARD
TZOFFSETFROM:-0400
TZOFFSETTO:-0500
TZNAME:EST
DTSTART:20271107T060000
END:STANDARD
END:VTIMEZONE
BEGIN:VEVENT
DTSTART;TZID=America/New_York:20260828T061500
DTEND;TZID=America/New_York:20260828T061500
DTSTAMP:20260423T082130
CREATED:20260305T201526Z
LAST-MODIFIED:20260305T201526Z
UID:98048-1787897700-1787897700@www.chq.org
SUMMARY:Sunrise Paddle - Kayak/SUP
DESCRIPTION:Enjoy the beauty of the lake during our sunrise paddle. This is not a guided tour but an opportunity to rent a kayak\, SUP or canoe for an enjoyable hour at sunrise.  Reservations accepted one day in advance at the Sports Club. Contact sportsclub@chq.org with questions.
URL:https://www.chq.org/event/sunrise-paddle-kayak-sup-4/
LOCATION:Sports Club\, Sports Club
CATEGORIES:Chautauqua Institution Program,Recreation
ATTACH;FMTTYPE=image/jpeg:https://www.chq.org/wp-content/uploads/2023/06/072321_SunriseKayaking_KT_01.jpg
END:VEVENT
END:VCALENDAR