BEGIN:VCALENDAR
VERSION:2.0
PRODID:-//Chautauqua Institution - ECPv6.15.20//NONSGML v1.0//EN
CALSCALE:GREGORIAN
METHOD:PUBLISH
X-WR-CALNAME:Chautauqua Institution
X-ORIGINAL-URL:https://www.chq.org
X-WR-CALDESC:Events for Chautauqua Institution
REFRESH-INTERVAL;VALUE=DURATION:PT1H
X-Robots-Tag:noindex
X-PUBLISHED-TTL:PT1H
BEGIN:VTIMEZONE
TZID:America/New_York
BEGIN:DAYLIGHT
TZOFFSETFROM:-0500
TZOFFSETTO:-0400
TZNAME:EDT
DTSTART:20250309T070000
END:DAYLIGHT
BEGIN:STANDARD
TZOFFSETFROM:-0400
TZOFFSETTO:-0500
TZNAME:EST
DTSTART:20251102T060000
END:STANDARD
BEGIN:DAYLIGHT
TZOFFSETFROM:-0500
TZOFFSETTO:-0400
TZNAME:EDT
DTSTART:20260308T070000
END:DAYLIGHT
BEGIN:STANDARD
TZOFFSETFROM:-0400
TZOFFSETTO:-0500
TZNAME:EST
DTSTART:20261101T060000
END:STANDARD
BEGIN:DAYLIGHT
TZOFFSETFROM:-0500
TZOFFSETTO:-0400
TZNAME:EDT
DTSTART:20270314T070000
END:DAYLIGHT
BEGIN:STANDARD
TZOFFSETFROM:-0400
TZOFFSETTO:-0500
TZNAME:EST
DTSTART:20271107T060000
END:STANDARD
END:VTIMEZONE
BEGIN:VEVENT
DTSTART;TZID=America/New_York:20260701T200000
DTEND;TZID=America/New_York:20260701T200000
DTSTAMP:20260420T030622
CREATED:20251110T211500Z
LAST-MODIFIED:20260212T151507Z
UID:96761-1782936000-1782936000@www.chq.org
SUMMARY:The Raleigh Ringers
DESCRIPTION:The Raleigh Ringers return to Chautauqua for another dazzling performance by one of America’s premier handbell ensembles. Renowned for their virtuosity and showmanship\, The Raleigh Ringers bring an extraordinary range of musical styles to life—from classical masterpieces to rock favorites—on hundreds of bronze bells. Their precision\, artistry\, and infectious energy transform handbell ringing into a breathtaking visual and musical experience. Don’t miss this much-anticipated return engagement that promises to delight audiences of all ages.
URL:https://www.chq.org/event/the-raleigh-ringers/
LOCATION:Amphitheater\, Amphitheater
CATEGORIES:Chautauqua Institution Program,Week One (June 27–July 4),Weekly Themes,Family Entertainment,Popular Entertainment & Concerts
ATTACH;FMTTYPE=image/jpeg:https://www.chq.org/wp-content/uploads/2025/11/TheRaleighRingers_2026.jpg
END:VEVENT
END:VCALENDAR