BEGIN:VCALENDAR
VERSION:2.0
PRODID:-//Chautauqua Institution - ECPv6.15.20//NONSGML v1.0//EN
CALSCALE:GREGORIAN
METHOD:PUBLISH
X-WR-CALNAME:Chautauqua Institution
X-ORIGINAL-URL:https://www.chq.org
X-WR-CALDESC:Events for Chautauqua Institution
REFRESH-INTERVAL;VALUE=DURATION:PT1H
X-Robots-Tag:noindex
X-PUBLISHED-TTL:PT1H
BEGIN:VTIMEZONE
TZID:America/New_York
BEGIN:DAYLIGHT
TZOFFSETFROM:-0500
TZOFFSETTO:-0400
TZNAME:EDT
DTSTART:20250309T070000
END:DAYLIGHT
BEGIN:STANDARD
TZOFFSETFROM:-0400
TZOFFSETTO:-0500
TZNAME:EST
DTSTART:20251102T060000
END:STANDARD
BEGIN:DAYLIGHT
TZOFFSETFROM:-0500
TZOFFSETTO:-0400
TZNAME:EDT
DTSTART:20260308T070000
END:DAYLIGHT
BEGIN:STANDARD
TZOFFSETFROM:-0400
TZOFFSETTO:-0500
TZNAME:EST
DTSTART:20261101T060000
END:STANDARD
BEGIN:DAYLIGHT
TZOFFSETFROM:-0500
TZOFFSETTO:-0400
TZNAME:EDT
DTSTART:20270314T070000
END:DAYLIGHT
BEGIN:STANDARD
TZOFFSETFROM:-0400
TZOFFSETTO:-0500
TZNAME:EST
DTSTART:20271107T060000
END:STANDARD
END:VTIMEZONE
BEGIN:VEVENT
DTSTART;TZID=America/New_York:20260710T200000
DTEND;TZID=America/New_York:20260710T200000
DTSTAMP:20260420T063822
CREATED:20260223T050000Z
LAST-MODIFIED:20260223T211524Z
UID:97878-1783713600-1783713600@www.chq.org
SUMMARY:Trombone Shorty & Orleans Avenue – Let’s Go Get ‘Em Tour
DESCRIPTION:Few artists embody the heart and soul of their city like Trombone Shorty. Perhaps the most recognizable ambassador for New Orleans music working today\, Shorty has spent his entire life not only carrying the torch for Crescent City culture\, but also propelling it forward into the 21st century with his ecstatic live performances and intoxicating blend of rock\, funk\, soul\, jazz\, blues\, hip-hop\, and Caribbean influences.   \nBorn Troy Andrews\, Shorty made his first appearance at New Orleans’ iconic Jazz Fest at the age of four\, when he took the stage for an impromptu performance with Bo Diddley. By six\, he was heading up his own brass band\, and by his early twenties\, he’d released the first in a string of critically acclaimed\, chart-topping albums that would lead to performances everywhere from the White House and the Grammy Awards to Madison Square Garden and the 2025 Super Bowl. Along the way\, Shorty would tour with artists as diverse as Jeff Beck and the Red Hot Chili Peppers; play Coachella\, Bonnaroo\, Lollapalooza\, the Roots Picnic\, and countless other festivals; perform alongside Juvenile on his instantly legendary NPR Tiny Desk Concert; earn his first Grammy Award; appear on The Tonight Show\, The Late Show\, Conan\, Jimmy Kimmel Live!\, Good Morning America\, Today\, CNN\, HBO’s Treme\, and even an episode of The Simpsons; and collaborate with an eclectic mix of stars including Pharrell\, Bruno Mars\, Mark Ronson\, Jon Batiste\, Lenny Kravitz\, Foo Fighters\, ZHU\, Zac Brown\, Normani and Ringo Starr. 
URL:https://www.chq.org/event/trombone-shorty-orleans-avenue/
LOCATION:Amphitheater\, Amphitheater
CATEGORIES:Chautauqua Institution Program,Week Two (July 4–11),Weekly Themes,Popular Entertainment & Concerts
ATTACH;FMTTYPE=image/jpeg:https://www.chq.org/wp-content/uploads/2026/02/Trombone-Shorty-3T3A3071-HI_RES.jpg
END:VEVENT
END:VCALENDAR