BEGIN:VCALENDAR
VERSION:2.0
PRODID:-//Chautauqua Institution - ECPv6.15.20//NONSGML v1.0//EN
CALSCALE:GREGORIAN
METHOD:PUBLISH
X-ORIGINAL-URL:https://www.chq.org
X-WR-CALDESC:Events for Chautauqua Institution
REFRESH-INTERVAL;VALUE=DURATION:PT1H
X-Robots-Tag:noindex
X-PUBLISHED-TTL:PT1H
BEGIN:VTIMEZONE
TZID:America/New_York
BEGIN:DAYLIGHT
TZOFFSETFROM:-0500
TZOFFSETTO:-0400
TZNAME:EDT
DTSTART:20240310T070000
END:DAYLIGHT
BEGIN:STANDARD
TZOFFSETFROM:-0400
TZOFFSETTO:-0500
TZNAME:EST
DTSTART:20241103T060000
END:STANDARD
BEGIN:DAYLIGHT
TZOFFSETFROM:-0500
TZOFFSETTO:-0400
TZNAME:EDT
DTSTART:20250309T070000
END:DAYLIGHT
BEGIN:STANDARD
TZOFFSETFROM:-0400
TZOFFSETTO:-0500
TZNAME:EST
DTSTART:20251102T060000
END:STANDARD
BEGIN:DAYLIGHT
TZOFFSETFROM:-0500
TZOFFSETTO:-0400
TZNAME:EDT
DTSTART:20260308T070000
END:DAYLIGHT
BEGIN:STANDARD
TZOFFSETFROM:-0400
TZOFFSETTO:-0500
TZNAME:EST
DTSTART:20261101T060000
END:STANDARD
END:VTIMEZONE
BEGIN:VEVENT
DTSTART;TZID=America/New_York:20250629T074500
DTEND;TZID=America/New_York:20250629T074500
DTSTAMP:20260423T082038
CREATED:20250610T231507Z
LAST-MODIFIED:20250610T231507Z
UID:93278-1751183100-1751183100@www.chq.org
SUMMARY:Episcopal Holy Eucharist
DESCRIPTION:
URL:https://www.chq.org/event/episcopal-holy-eucharist-47/
LOCATION:Chapel of the Good Shepherd\, Chapel of the Good Shepherd
CATEGORIES:Community Group Event,Community Group Program,Week Two (July 4–11),Weekly Themes
ATTACH;FMTTYPE=image/jpeg:https://www.chq.org/wp-content/uploads/2023/06/061922_AnthaneaumLawn_DT_01.jpg
END:VEVENT
BEGIN:VEVENT
DTSTART;TZID=America/New_York:20250629T083000
DTEND;TZID=America/New_York:20250629T083000
DTSTAMP:20260423T082038
CREATED:20250610T231534Z
LAST-MODIFIED:20250610T231534Z
UID:93316-1751185800-1751185800@www.chq.org
SUMMARY:Song\, Prayer\, Communion & Meditation
DESCRIPTION:
URL:https://www.chq.org/event/song-prayer-communion-meditation-2/
LOCATION:Hurlbut Church sanctuary\, Hurlbut Church sanctuary
CATEGORIES:Community Group Event,Community Group Program,Week Two (July 4–11),Weekly Themes
ATTACH;FMTTYPE=image/jpeg:https://www.chq.org/wp-content/uploads/2021/05/HurlbutChurch.jpg
END:VEVENT
BEGIN:VEVENT
DTSTART;TZID=America/New_York:20250629T090000
DTEND;TZID=America/New_York:20250629T090000
DTSTAMP:20260423T082038
CREATED:20250610T231541Z
LAST-MODIFIED:20250610T231541Z
UID:93326-1751187600-1751187600@www.chq.org
SUMMARY:United Church of Christ Worship Service
DESCRIPTION:United Church of Christ Worship Service
URL:https://www.chq.org/event/united-church-of-christ-worship-service-12/
LOCATION:Randell Chapel\, UCC Headquarters
CATEGORIES:Community Group Event,Community Group Program,Week Two (July 4–11),Weekly Themes
ATTACH;FMTTYPE=image/jpeg:https://www.chq.org/wp-content/uploads/2022/06/08XX16_FEAT_SunsetBellTower_CB.jpg
END:VEVENT
BEGIN:VEVENT
DTSTART;TZID=America/New_York:20250629T090000
DTEND;TZID=America/New_York:20250629T090000
DTSTAMP:20260423T082038
CREATED:20250610T231555Z
LAST-MODIFIED:20250610T231555Z
UID:93346-1751187600-1751187600@www.chq.org
SUMMARY:Episcopal Holy Eucharist
DESCRIPTION:Episcopal Holy Eucharist
URL:https://www.chq.org/event/episcopal-holy-eucharist-63/
LOCATION:Chapel of the Good Shepherd\, Chapel of the Good Shepherd
CATEGORIES:Community Group Event,Community Group Program,Week Two (July 4–11),Weekly Themes
ATTACH;FMTTYPE=image/jpeg:https://www.chq.org/wp-content/uploads/2023/06/061922_AnthaneaumLawn_DT_01.jpg
END:VEVENT
BEGIN:VEVENT
DTSTART;TZID=America/New_York:20250629T091500
DTEND;TZID=America/New_York:20250629T091500
DTSTAMP:20260423T082038
CREATED:20250610T231611Z
LAST-MODIFIED:20250610T231611Z
UID:93365-1751188500-1751188500@www.chq.org
SUMMARY:Catholic Mass
DESCRIPTION:Catholic Mass
URL:https://www.chq.org/event/catholic-mass-3/
LOCATION:Hall of Christ: Sanctuary
CATEGORIES:Community Group Event,Community Group Program,Week Two (July 4–11),Weekly Themes
END:VEVENT
BEGIN:VEVENT
DTSTART;TZID=America/New_York:20250629T093000
DTEND;TZID=America/New_York:20250629T093000
DTSTAMP:20260423T082038
CREATED:20250411T151602Z
LAST-MODIFIED:20250610T233126Z
UID:89785-1751189400-1751189400@www.chq.org
SUMMARY:Unitarian Universalist Service
DESCRIPTION:Unitarian Universalist Service
URL:https://www.chq.org/event/unitarian-universalist-service-11/
LOCATION:Hall of Philosophy\, Hall of Philosophy
CATEGORIES:Community Group Event,Community Group Program,Week Two (July 4–11),Weekly Themes
END:VEVENT
BEGIN:VEVENT
DTSTART;TZID=America/New_York:20250629T093000
DTEND;TZID=America/New_York:20250629T093000
DTSTAMP:20260423T082038
CREATED:20250610T231548Z
LAST-MODIFIED:20250610T231548Z
UID:93336-1751189400-1751189400@www.chq.org
SUMMARY:Unity Service
DESCRIPTION:Unity Service
URL:https://www.chq.org/event/unity-service-12/
LOCATION:Hall of Missions\, Hall of Missions
CATEGORIES:Community Group Event,Community Group Program,Week Two (July 4–11),Weekly Themes
ATTACH;FMTTYPE=image/jpeg:https://www.chq.org/wp-content/uploads/2021/08/20180815_gf_chq_11212.jpg
END:VEVENT
BEGIN:VEVENT
DTSTART;TZID=America/New_York:20250629T093000
DTEND;TZID=America/New_York:20250629T093000
DTSTAMP:20260423T082039
CREATED:20250610T231603Z
LAST-MODIFIED:20250610T231603Z
UID:93356-1751189400-1751189400@www.chq.org
SUMMARY:Quaker Worship Service
DESCRIPTION:Quaker Worship Sevice
URL:https://www.chq.org/event/quaker-worship-service-12/
LOCATION:Quaker House
CATEGORIES:Community Group Event,Community Group Program,Week Two (July 4–11),Weekly Themes
ATTACH;FMTTYPE=image/jpeg:https://www.chq.org/wp-content/uploads/2022/06/QuakerHouse.jpg
END:VEVENT
BEGIN:VEVENT
DTSTART;TZID=America/New_York:20250629T101500
DTEND;TZID=America/New_York:20250629T101500
DTSTAMP:20260423T082039
CREATED:20250410T231608Z
LAST-MODIFIED:20250624T220027Z
UID:91981-1751192100-1751192100@www.chq.org
SUMMARY:Sunday School
DESCRIPTION:Weekly Sunday School Program for Ages 3-11. Children of all faiths and no faith are welcome.
URL:https://www.chq.org/event/sunday-school-11/
LOCATION:Children’s School\, Children's School
CATEGORIES:Chautauqua Institution Program,Week Two (July 4–11),Weekly Themes,Youth Programs and Activities,Faith and Spiritual Programming
ATTACH;FMTTYPE=image/jpeg:https://www.chq.org/wp-content/uploads/2023/06/072522_GoldenHourWalk_DM_14-1.jpg
END:VEVENT
BEGIN:VEVENT
DTSTART;TZID=America/New_York:20250629T104500
DTEND;TZID=America/New_York:20250629T104500
DTSTAMP:20260423T082039
CREATED:20250115T161700Z
LAST-MODIFIED:20250625T000012Z
UID:89598-1751193900-1751193900@www.chq.org
SUMMARY:Rev. Dr. Jacqueline J. Lewis
DESCRIPTION:The Rev. Dr. Jacqui Lewis uses her gifts as author\, activist\, preacher\, and public theologian toward creating an antiracist\, just\, gun violence free\, fully welcoming\, gender affirming society in which everyone has enough. \nJacqui is the Senior Minister at Middle Collegiate Church. A womanist theologian\, Jacqui has preached at the Festival of Homiletics\, the Wild Goose Festival\, The Children’s Defense Fund’s Haley Farm\, and was a featured speaker on the Together national tour with best-selling author\, Glennon Doyle. \nDr. Lewis’ work has also been featured in The Wall Street Journal\, The Washington Post\, The Washington Times\, the front page of The New York Times website\, New York Times Video\, The New York Post\, CNN i-report\, Essence\, Ebony.com\, the New York Daily News\, the New York Post\, The Associated Press\, The San Francisco Chronicle\, U.S. News\, The Public’s Radio\, The Houston Chronicle\, The Seattle Times\, The San Diego Union Tribune\, The Atlanta Journal-Constitution\, and The Yakima Herald. She has blogged for The Huffington Post\, GLAAD\, Patheos\, and Believe Out Loud. Her books include The Power of Stories; Ten Essential Strategies (with John Janka); Becoming Like Creoles (with Curtiss de Young\, et al)\, and the children’s book\, You Are So Wonderful! Harmony/Penguin Random House published her book\, Fierce Love: A Bold Path to Ferocious Courage and Rule-Breaking Kindness That Can Heal the World in 2021. Her latest book is the Just Love Story Bible for Children (Beaming Books\, 2024).
URL:https://www.chq.org/event/rev-jacqueline-j-lewis/
LOCATION:Amphitheater\, Amphitheater
CATEGORIES:Chautauqua Institution Program,Week Two (July 4–11),Weekly Themes,CHQ Assembly,Faith and Spiritual Programming,Weekly Chaplains
ATTACH;FMTTYPE=image/jpeg:https://www.chq.org/wp-content/uploads/2025/01/Lewis_Jacqueline_Chaplain_photo_wk2_2025.jpg
END:VEVENT
BEGIN:VEVENT
DTSTART;TZID=America/New_York:20250629T121500
DTEND;TZID=America/New_York:20250629T121500
DTSTAMP:20260423T082039
CREATED:20250610T233055Z
LAST-MODIFIED:20250610T233055Z
UID:93394-1751199300-1751199300@www.chq.org
SUMMARY:Twelve Step Meeting
DESCRIPTION:
URL:https://www.chq.org/event/twelve-step-meeting-4/
LOCATION:Hurlbut Marion Lawrance
CATEGORIES:Community Group Event,Community Group Program,Week Two (July 4–11),Weekly Themes
ATTACH;FMTTYPE=image/jpeg:https://www.chq.org/wp-content/uploads/2021/05/HurlbutChurch.jpg
END:VEVENT
BEGIN:VEVENT
DTSTART;TZID=America/New_York:20250629T150000
DTEND;TZID=America/New_York:20250629T150000
DTSTAMP:20260423T082039
CREATED:20250317T140000Z
LAST-MODIFIED:20250625T000104Z
UID:91249-1751209200-1751209200@www.chq.org
SUMMARY:Chautauqua Symphony Orchestra: Family Matinee: The Story of Babar
DESCRIPTION:Rossen Milanov\, conductor \nBring the whole family for a magical afternoon with the Chautauqua Symphony Orchestra as they bring Poulenc’s The Story of Babar to life through charming narration and Poulenc’s playful\, colorful music. With enchanting storytelling and a vibrant orchestral score\, this is the perfect concert to introduce young audiences to the joy of classical music! Join the musicians on the Amphitheater porch following the concert for musical activities and an instrument petting zoo\, hosted by the Chautauqua Symphony Orchestra League. \nProgram:\nGioachino Rossini: The Barber of Seville overture\nFrancis Poulenc: The Story of Babar
URL:https://www.chq.org/event/chautauqua-symphony-orchestra-sunday-matinee/
LOCATION:Amphitheater\, Amphitheater
CATEGORIES:Chautauqua Institution Program,Week Two (July 4–11),Weekly Themes,Chautauqua Symphony Orchestra/Classical Concerts,Family Entertainment
ATTACH;FMTTYPE=image/jpeg:https://www.chq.org/wp-content/uploads/2023/02/CSO_2023_RossenMilanov.jpg
END:VEVENT
BEGIN:VEVENT
DTSTART;TZID=America/New_York:20250629T150000
DTEND;TZID=America/New_York:20250629T150000
DTSTAMP:20260423T082039
CREATED:20250619T161512Z
LAST-MODIFIED:20250619T161512Z
UID:94203-1751209200-1751209200@www.chq.org
SUMMARY:"Radiant" Exhibition opening reception
DESCRIPTION:“Radiant” Exhibition opening reception\, from 3-5pm. The exhibition runs June 29-July 12. “Radiant” brings together a vibrant selection of artists curated by Erika b Hess\, host of I Like Your Work and the Sydelle Sonkin and Herb Siegel Artistic Director of the Chautauqua Visual Arts.
URL:https://www.chq.org/event/radiant-exhibition-opening-reception/
LOCATION:CVA: Arts Quad
CATEGORIES:Chautauqua Institution Program,Week Two (July 4–11),Weekly Themes,Visual Arts
END:VEVENT
BEGIN:VEVENT
DTSTART;TZID=America/New_York:20250629T151500
DTEND;TZID=America/New_York:20250629T151500
DTSTAMP:20260423T082039
CREATED:20250617T001538Z
LAST-MODIFIED:20250705T141511Z
UID:94046-1751210100-1751210100@www.chq.org
SUMMARY:INSIDE OUT: Introduction by Lewis Black
DESCRIPTION:Special Guest Event! As Riley and her emotions struggle to adjust to a new home and school in San Francisco\, turmoil ensues. “As funny\, stirring\, unpredictable\, exciting and riotously beautiful as it is profound.” -Joe Morgenstern\, Wall Street Journal   “An absolute delight!” -A.O. Scott\, New York Times (PG\, 94m)  Lewis Black who voices the character Anger\, will introduce the Sunday screening! (PG\, 96m)
URL:https://www.chq.org/event/inside-out/
LOCATION:Chautauqua Cinema\, Chautauqua Cinema
CATEGORIES:Movies,Chautauqua Institution Program,Week Two (July 4–11),Weekly Themes
ATTACH;FMTTYPE=image/jpeg:https://www.chq.org/wp-content/uploads/2025/06/InsideOut.jpg
END:VEVENT
BEGIN:VEVENT
DTSTART;TZID=America/New_York:20250629T153000
DTEND;TZID=America/New_York:20250629T153000
DTSTAMP:20260423T082039
CREATED:20250414T150010Z
LAST-MODIFIED:20250414T171524Z
UID:92092-1751211000-1751211000@www.chq.org
SUMMARY:Deborah A. Miranda and Marc Tyler Nobleman
DESCRIPTION:Chautauqua Writers’ Center Faculty Reading — Week Two — Featuring Deborah A. Miranda (Memoir) and Marc Tyler Nobleman (Children’s Picture Book) \nDeborah A. Miranda is a writer and enrolled member of the Ohlone-Costanoan Esselen Nation in California\, with Santa Ynez Chumash ancestry. Her hybrid project\, Bad Indians: A Tribal Memoir\, won the PEN Oakland Josephine Miles Literary Award; the 10th anniversary edition of Bad Indians was released in 2023 as a hardback with 50+ additional pages of material. Miranda is also the author of four poetry collections (Indian Cartography\, The Zen of La Llorona\, Raised by Humans\, and Altar for Broken Things) and co-editor of the Lambda finalist Sovereign Erotics: An Anthology of Two-Spirit Literature. Her scholarship focuses on California Indian experiences within and after Missionization and California Indian storyteller and culture bearers such as Isabel Meadows. She is Thomas H. Broadus\, Jr. Professor of English emerita at Washington and Lee University\, where she taught Native American Literatures and Creative Writing\, and was an affiliate of the Shepherd Poverty Studies Program and the Women and Gender Studies Programs. She and spouse Margo Solod now live in Eugene\, Oregon.  \nMarc Tyler Nobleman is the award-winning author of books for all ages including Bill the Boy Wonder: The Secret Co-Creator of Batman\, which changed history\, inspiring the unprecedented Hulu documentary Batman & Bill. He has spoken in almost 20 countries across five continents at venues including the U.S. State Department\, the Queen Mary 2 cruise ship\, and a TED Talk.
URL:https://www.chq.org/event/deborah-a-miranda-and-marc-tyler-nobleman/
LOCATION:Hall of Philosophy\, Hall of Philosophy
CATEGORIES:Chautauqua Institution Program,Week Two (July 4–11),Weekly Themes,Chautauqua Writers’ Center,Literary Arts
ATTACH;FMTTYPE=image/jpeg:https://www.chq.org/wp-content/uploads/2025/04/CWC_FacultyReadings_Wk2.jpg
END:VEVENT
BEGIN:VEVENT
DTSTART;TZID=America/New_York:20250629T160000
DTEND;TZID=America/New_York:20250629T160000
DTSTAMP:20260423T082039
CREATED:20250210T233010Z
LAST-MODIFIED:20250530T181518Z
UID:90112-1751212800-1751212800@www.chq.org
SUMMARY:Pranayama
DESCRIPTION:by James Anthony Tyler\, Directed by Jade King Carroll\, Bratton Theater \nThe 6 a.m. class at Harlem Bikram is for the regulars — a group as diverse as the neighborhood itself. As heat builds in the yoga studio\, so do the tensions in their personal lives. Pranayama captures the breath of a community trying to heal\, connect and transform by showing up for themselves and for each other.
URL:https://www.chq.org/event/chautauqua-theater-company-presents-new-play-workshop-1-6/
LOCATION:Bratton Theater\, Bratton Theater
CATEGORIES:Chautauqua Institution Program,Week Two (July 4–11),Weekly Themes,Theater
ATTACH;FMTTYPE=image/jpeg:https://www.chq.org/wp-content/uploads/2023/01/NPW_Event.jpg
END:VEVENT
BEGIN:VEVENT
DTSTART;TZID=America/New_York:20250629T160000
DTEND;TZID=America/New_York:20250629T160000
DTSTAMP:20260423T082039
CREATED:20250410T223120Z
LAST-MODIFIED:20250410T223120Z
UID:91956-1751212800-1751212800@www.chq.org
SUMMARY:Church of the Wild
DESCRIPTION:Kriss Young Miller and her husband Gary manage the Quaker House. Kriss is a 2022 graduate of Earlham School of Religion with her Master of Arts in Peace and Social Transformation. Kriss is currently a student of Victoria Loorz in the Seminary of the Wild Earth at the Center for Wild Spirituality.  She has completed Wild Church Leadership training and is deeply grateful for the opportunity to work to build connections with Chautauquans in the sacred wild.
URL:https://www.chq.org/event/church-of-the-wild-11/
LOCATION:Outdoor Classroom
CATEGORIES:Chautauqua Institution Program,Week Two (July 4–11),Weekly Themes,Faith and Spiritual Programming
ATTACH;FMTTYPE=image/jpeg:https://www.chq.org/wp-content/uploads/2023/03/071522_SunriseKayking_GP_03.jpg
END:VEVENT
BEGIN:VEVENT
DTSTART;TZID=America/New_York:20250629T163000
DTEND;TZID=America/New_York:20250629T163000
DTSTAMP:20260423T082039
CREATED:20250410T223114Z
LAST-MODIFIED:20250616T171512Z
UID:91947-1751214600-1751214600@www.chq.org
SUMMARY:Blessing of the Animals
DESCRIPTION:Weather Permitting
URL:https://www.chq.org/event/blessing-of-the-animals-4/
LOCATION:Miller Park\, Miller Park
CATEGORIES:Chautauqua Institution Program,Week Two (July 4–11),Weekly Themes,Faith and Spiritual Programming
END:VEVENT
BEGIN:VEVENT
DTSTART;TZID=America/New_York:20250629T163000
DTEND;TZID=America/New_York:20250629T163000
DTSTAMP:20260423T082039
CREATED:20250623T211524Z
LAST-MODIFIED:20250623T211524Z
UID:94405-1751214600-1751214600@www.chq.org
SUMMARY:Orientation for New Chautauquans
DESCRIPTION:Join us for lemonade and cookies at the Orientation for New Chautauquans\, where we warmly welcome you to our vibrant community. This event is designed to acquaint you with the rich history\, diverse programs\, and unique experiences that Chautauqua has to offer. Meet fellow newcomers\, engage with staff\, and learn about the array of cultural\, educational\, and recreational opportunities available. Whether you’re here for a day\, a week\, or the entire season\, this orientation will help you make the most of your visit and feel right at home.
URL:https://www.chq.org/event/orientation-for-new-chautauquans-2/
LOCATION:Hultquist 101\, Hultquist 101
CATEGORIES:Chautauqua Institution Program
END:VEVENT
BEGIN:VEVENT
DTSTART;TZID=America/New_York:20250629T170000
DTEND;TZID=America/New_York:20250629T170000
DTSTAMP:20260423T082039
CREATED:20250410T221542Z
LAST-MODIFIED:20250410T221542Z
UID:91835-1751216400-1751216400@www.chq.org
SUMMARY:Children's Organ Tour
DESCRIPTION:
URL:https://www.chq.org/event/childrens-organ-tour/
LOCATION:Amphitheater\, Amphitheater
CATEGORIES:Chautauqua Institution Program,Week Two (July 4–11),Weekly Themes
ATTACH;FMTTYPE=image/jpeg:https://www.chq.org/wp-content/uploads/2024/09/OrganTour_03.jpg
END:VEVENT
BEGIN:VEVENT
DTSTART;TZID=America/New_York:20250629T170000
DTEND;TZID=America/New_York:20250629T170000
DTSTAMP:20260423T082039
CREATED:20250410T223053Z
LAST-MODIFIED:20250616T130015Z
UID:91915-1751216400-1751216400@www.chq.org
SUMMARY:Palestine Park Tour
DESCRIPTION:“A Journey Through the Holy Land in the times of Jesus” (weather Permitting)
URL:https://www.chq.org/event/palestine-park-tour-4/
LOCATION:Palestine Park\, Palestine Park
CATEGORIES:Chautauqua Institution Program,Week Two (July 4–11),Weekly Themes,Faith and Spiritual Programming
ATTACH;FMTTYPE=image/jpeg:https://www.chq.org/wp-content/uploads/2022/06/071918_Palestine_Park_DM_06.jpg
END:VEVENT
BEGIN:VEVENT
DTSTART;TZID=America/New_York:20250629T180000
DTEND;TZID=America/New_York:20250629T180000
DTSTAMP:20260423T082039
CREATED:20250618T011526Z
LAST-MODIFIED:20250705T141512Z
UID:94155-1751220000-1751220000@www.chq.org
SUMMARY:INSIDE OUT 2: Introduction by Lewis Black
DESCRIPTION:Special Guest Event! The little voices inside Riley’s head know her inside and out\, but everything changes with the onset of puberty and the arrival of Anxiety\, Envy\, Ennui\, and Embarrassment. “An exuberant\, brilliant swirl of teenage emotion.” -Richard Roeper\, Chicago Sun-Times  Lewis Black who voices the character Anger\, will introduce the Sunday screening! (PG\, 96m)
URL:https://www.chq.org/event/inside-out-2-2/
LOCATION:Chautauqua Cinema\, Chautauqua Cinema
CATEGORIES:Movies,Chautauqua Institution Program,Week Two (July 4–11),Weekly Themes
ATTACH;FMTTYPE=image/jpeg:https://www.chq.org/wp-content/uploads/2025/06/InsideOut2.jpg
END:VEVENT
BEGIN:VEVENT
DTSTART;TZID=America/New_York:20250629T190000
DTEND;TZID=America/New_York:20250629T190000
DTSTAMP:20260423T082039
CREATED:20250521T213022Z
LAST-MODIFIED:20251204T190019Z
UID:92867-1751223600-1751223600@www.chq.org
SUMMARY:Hebrew Congregation\, Shirley Lazarus Sunday Evening Lecture Series
DESCRIPTION:
URL:https://www.chq.org/event/hebrew-congregation-shirley-lazarus-sunday-evening-lecture-series-9/
LOCATION:Smith Wilkes Hall\, Smith Wilkes Hall
CATEGORIES:Week Two (July 4–11),Weekly Themes
ATTACH;FMTTYPE=image/jpeg:https://www.chq.org/wp-content/uploads/2022/06/smith_wilkes.jpg
END:VEVENT
BEGIN:VEVENT
DTSTART;TZID=America/New_York:20250629T200000
DTEND;TZID=America/New_York:20250629T200000
DTSTAMP:20260423T082039
CREATED:20250410T221536Z
LAST-MODIFIED:20250625T000028Z
UID:91826-1751227200-1751227200@www.chq.org
SUMMARY:Sacred Song Service - Save Me from the Soothing Sin
DESCRIPTION:
URL:https://www.chq.org/event/sacred-song-service-save-me-from-the-soothing-sin/
LOCATION:Amphitheater\, Amphitheater
CATEGORIES:Chautauqua Institution Program,Week Two (July 4–11),Weekly Themes,Faith and Spiritual Programming
ATTACH;FMTTYPE=image/jpeg:https://www.chq.org/wp-content/uploads/2024/03/062523_SacredSong_CL_04-1.jpg
END:VEVENT
BEGIN:VEVENT
DTSTART;TZID=America/New_York:20250629T203000
DTEND;TZID=America/New_York:20250629T203000
DTSTAMP:20260423T082039
CREATED:20250616T231538Z
LAST-MODIFIED:20250621T153050Z
UID:94043-1751229000-1751229000@www.chq.org
SUMMARY:SINNERS
DESCRIPTION:Trying to leave their troubled lives behind\, twin brothers (Michael B. Jordan) return to their hometown to start again\, only to discover that an even greater evil is waiting to welcome them back. Director Ryan “Coogler’s Sinners is the best film of the year so far.” -Billie Melissa\, Newsweek “This is horror with a sense of purpose and an appreciation of music and history\, grooving the body and gnawing at the conscience even as it nibbles on the neck.” -Peter Howell\, Toronto Star  “A vampire movie for the ages.” -Kristy Puchko\, Mashable (R\, 137m)
URL:https://www.chq.org/event/sinners-3/
LOCATION:Chautauqua Cinema\, Chautauqua Cinema
CATEGORIES:Movies,Chautauqua Institution Program,Week Two (July 4–11),Weekly Themes
ATTACH;FMTTYPE=image/jpeg:https://www.chq.org/wp-content/uploads/2025/06/Sinners.jpg
END:VEVENT
END:VCALENDAR