BEGIN:VCALENDAR
VERSION:2.0
PRODID:-//Chautauqua Institution - ECPv6.15.20//NONSGML v1.0//EN
CALSCALE:GREGORIAN
METHOD:PUBLISH
X-ORIGINAL-URL:https://www.chq.org
X-WR-CALDESC:Events for Chautauqua Institution
REFRESH-INTERVAL;VALUE=DURATION:PT1H
X-Robots-Tag:noindex
X-PUBLISHED-TTL:PT1H
BEGIN:VTIMEZONE
TZID:America/New_York
BEGIN:DAYLIGHT
TZOFFSETFROM:-0500
TZOFFSETTO:-0400
TZNAME:EDT
DTSTART:20240310T070000
END:DAYLIGHT
BEGIN:STANDARD
TZOFFSETFROM:-0400
TZOFFSETTO:-0500
TZNAME:EST
DTSTART:20241103T060000
END:STANDARD
BEGIN:DAYLIGHT
TZOFFSETFROM:-0500
TZOFFSETTO:-0400
TZNAME:EDT
DTSTART:20250309T070000
END:DAYLIGHT
BEGIN:STANDARD
TZOFFSETFROM:-0400
TZOFFSETTO:-0500
TZNAME:EST
DTSTART:20251102T060000
END:STANDARD
BEGIN:DAYLIGHT
TZOFFSETFROM:-0500
TZOFFSETTO:-0400
TZNAME:EDT
DTSTART:20260308T070000
END:DAYLIGHT
BEGIN:STANDARD
TZOFFSETFROM:-0400
TZOFFSETTO:-0500
TZNAME:EST
DTSTART:20261101T060000
END:STANDARD
END:VTIMEZONE
BEGIN:VEVENT
DTSTART;TZID=America/New_York:20250705T093000
DTEND;TZID=America/New_York:20250705T093000
DTSTAMP:20260423T082133
CREATED:20250611T001608Z
LAST-MODIFIED:20250620T161522Z
UID:93500-1751707800-1751707800@www.chq.org
SUMMARY:Torah Study
DESCRIPTION:
URL:https://www.chq.org/event/torah-study-2/
LOCATION:Hurlbut Marion Lawrance
CATEGORIES:Community Group Event,Community Group Program,Week Two (July 4–11),Weekly Themes
ATTACH;FMTTYPE=image/jpeg:https://www.chq.org/wp-content/uploads/2021/05/HurlbutChurch.jpg
END:VEVENT
BEGIN:VEVENT
DTSTART;TZID=America/New_York:20250705T093000
DTEND;TZID=America/New_York:20250705T093000
DTSTAMP:20260423T082133
CREATED:20250611T003132Z
LAST-MODIFIED:20250611T003132Z
UID:93556-1751707800-1751707800@www.chq.org
SUMMARY:Chabad Jewish House\, Community Shabbat Service\, Rabbi Zalman Vilenken
DESCRIPTION:
URL:https://www.chq.org/event/chabad-jewish-house-community-shabbat-service-rabbi-zalman-vilenken-2/
LOCATION:Chabad Jewish House
CATEGORIES:Community Group Event,Community Group Program,Week Two (July 4–11),Weekly Themes
ATTACH;FMTTYPE=image/jpeg:https://www.chq.org/wp-content/uploads/2023/03/071522_SunriseKayking_GP_03.jpg
END:VEVENT
BEGIN:VEVENT
DTSTART;TZID=America/New_York:20250705T103000
DTEND;TZID=America/New_York:20250705T103000
DTSTAMP:20260423T082133
CREATED:20250611T001625Z
LAST-MODIFIED:20250620T161524Z
UID:93506-1751711400-1751711400@www.chq.org
SUMMARY:Sabbath Morning Worship\, Hebrew Congregation
DESCRIPTION:
URL:https://www.chq.org/event/sabbath-morning-worship-hebrew-congregation-11/
LOCATION:Hurlbut Church sanctuary\, Hurlbut Church sanctuary
CATEGORIES:Community Group Event,Community Group Program,Week Two (July 4–11),Weekly Themes
ATTACH;FMTTYPE=image/jpeg:https://www.chq.org/wp-content/uploads/2022/06/20170816_gf_00736.jpg
END:VEVENT
BEGIN:VEVENT
DTSTART;TZID=America/New_York:20250705T113000
DTEND;TZID=America/New_York:20250705T113000
DTSTAMP:20260423T082133
CREATED:20250620T161530Z
LAST-MODIFIED:20250702T143426Z
UID:94234-1751715000-1751715000@www.chq.org
SUMMARY:Kiddish Luncheon
DESCRIPTION:
URL:https://www.chq.org/event/kiddish-luncheon-2/
LOCATION:Hurlbut Truesdale
ATTACH;FMTTYPE=image/jpeg:https://www.chq.org/wp-content/uploads/2022/06/072419_Ambience_GF_02.jpg
END:VEVENT
BEGIN:VEVENT
DTSTART;TZID=America/New_York:20250705T150000
DTEND;TZID=America/New_York:20250705T150000
DTSTAMP:20260423T082133
CREATED:20250417T040000Z
LAST-MODIFIED:20250703T161525Z
UID:92248-1751727600-1751727600@www.chq.org
SUMMARY:Contemporary Issues Forum: Raymond Arsenault
DESCRIPTION:Raymond Arsenault is the John Hope Franklin Professor of Southern History emeritus at the University of South Florida\, where he is also chairman of the Department of History and Politics. Educated at Princeton and Brandeis\, he is an esteemed expert in the political\, social\, environmental and civil rights history of the American South\, and the author of several widely acclaimed and prize-winning books\, including The Sound of Freedom: Marian Anderson\, the Lincoln Memorial\, and the Concert That Awakened America. It is this book\, and the subsequent PBS documentary\, that will inform his Contemporary Issue Forum program for the Chautauqua Women’s Club\, titled “Marian Anderson and the Sound of Freedom.”  \nArsenault’s other books include Freedom Riders: 1961 and the Struggle for Racial Justice and Arthur Ashe\, A Life. His most recent book\, published in January 2024 as a volume in Yale University Press’ new Black Lives series\, is John Lewis: In Search of the Beloved Community. The 2011 PBS American Experience documentary “Freedom Riders\,” based on his book\, won three Emmys and a George Peabody Award.   \nHe has also served as a consultant for numerous civil rights museums and documentary film projects\, including the 2022 PBS American Masters documentary “Marian Anderson: The Whole World in Her Hands.”
URL:https://www.chq.org/event/contemporary-issues-forum-raymond-arsenault/
LOCATION:Hall of Philosophy\, Hall of Philosophy
CATEGORIES:Special Events,Chautauqua Institution Program,Week Two (July 4–11),Weekly Themes
ATTACH;FMTTYPE=image/jpeg:https://www.chq.org/wp-content/uploads/2024/02/Arsenault_Raymond_AAHH_081424.jpg
END:VEVENT
BEGIN:VEVENT
DTSTART;TZID=America/New_York:20250705T161500
DTEND;TZID=America/New_York:20250705T161500
DTSTAMP:20260423T082133
CREATED:20250226T181508Z
LAST-MODIFIED:20250717T160016Z
UID:90781-1751732100-1751732100@www.chq.org
SUMMARY:Piano Program Faculty Recital:  Piano Faculty Extravaganza. Featuring Alexander Kobrin\, Jon Nakamatsu\, JY Song\, and Nikki Melville
DESCRIPTION:Join School of Music faculty pianists Alexander Kobrin\, Jon Nakamatsu\, J.Y. Song\, and Nikki Melville for an afternoon of lively and delightful two-piano repertoire. The program features the timeless elegance of Mozart and Fauré\, alongside upbeat crowd favorites by Rossini\, Gounod\, Sousa\, and Joplin. It’s sure to be an afternoon filled with energy\, charm\, and spectacular music!
URL:https://www.chq.org/event/school-of-music-piano-faculty-extravaganza/
LOCATION:Elizabeth S. Lenna Hall\, Elizabeth S. Lenna Hall
CATEGORIES:Chautauqua Institution Program,Weekly Themes,Week Three (July 11–18),School of Music
ATTACH;FMTTYPE=image/jpeg:https://www.chq.org/wp-content/uploads/2025/05/SOM_Piano_070525.jpg
END:VEVENT
BEGIN:VEVENT
DTSTART;TZID=America/New_York:20250705T170000
DTEND;TZID=America/New_York:20250705T170000
DTSTAMP:20260423T082133
CREATED:20250207T201513Z
LAST-MODIFIED:20250612T211527Z
UID:90039-1751734800-1751734800@www.chq.org
SUMMARY:CTC presents the DNAWORKS production of The Real James Bond...Was Dominican
DESCRIPTION:Written and Performed by Christopher Rivas\nDeveloped with and Directed by Daniel Banks  \nWhat happens when a James Bond-obsessed Dominican boy in Queens (who won’t go anywhere without his nerf gun)\, finds out that the real James Bond was Dominican? This is a true story about Porfirio Rubirosa\, Ian Fleming’s inspiration for Bond\, and a young Dominican actor-to-be\, whose discovery of “Rubi” shakes his very foundation. Set to a live percussion score and immersive projections\, The Real James Bond…Was Dominican is a young man’s guide to love\, color\, code-switching\, white-washing\, success\, fake-it-till-you-make-it\, and the roller coaster of finding one’s true self.  \nContent advisory: This production contains mild language usage\, discussions of racism\, colorism\, and mild sexual content.   \nRecommended for audiences ages 13 and older.
URL:https://www.chq.org/event/chautauqua-theater-company-presents-the-dnaworks-production-of-the-real-james-bond-was-dominican-3/
LOCATION:Bratton Theater\, Bratton Theater
CATEGORIES:Chautauqua Institution Program,Week Two (July 4–11),Weekly Themes,Theater
ATTACH;FMTTYPE=image/jpeg:https://www.chq.org/wp-content/uploads/2025/05/CTC_2025_EventPhotos_Bond.jpg
END:VEVENT
BEGIN:VEVENT
DTSTART;TZID=America/New_York:20250705T170000
DTEND;TZID=America/New_York:20250705T170000
DTSTAMP:20260423T082133
CREATED:20250611T001628Z
LAST-MODIFIED:20250611T001628Z
UID:93509-1751734800-1751734800@www.chq.org
SUMMARY:Catholic Mass
DESCRIPTION:Catholic Mass
URL:https://www.chq.org/event/catholic-mass-32/
LOCATION:Hall of Philosophy\, Hall of Philosophy
CATEGORIES:Community Group Event,Community Group Program,Week Two (July 4–11),Weekly Themes
ATTACH;FMTTYPE=image/jpeg:https://www.chq.org/wp-content/uploads/2022/06/hall_philosophy2-1.jpg
END:VEVENT
BEGIN:VEVENT
DTSTART;TZID=America/New_York:20250705T180000
DTEND;TZID=America/New_York:20250705T180000
DTSTAMP:20260423T082133
CREATED:20250621T160048Z
LAST-MODIFIED:20250621T160048Z
UID:94365-1751738400-1751738400@www.chq.org
SUMMARY:WARFARE
DESCRIPTION:Written and directed by Iraq War veteran Ray Mendoza and Alex Garland (Ex Machina\, Civil War\, 28 Days Later)\, Warfare embeds audiences with a platoon of American Navy SEALs on a surveillance mission gone wrong in insurgent territory. A visceral\, boots-on-the-ground story of modern warfare and brotherhood\, told like never before: in real time and based on the memory of the people who lived it. “The sheer technical brilliance and strength of performances\, cannot fail to connect when you take on the film on its own terms\, as pure human experience in the most hellish of circumstances.” -Martin Robinson\, London Evening Standard (R\, 95m) 
URL:https://www.chq.org/event/warfare-2/
LOCATION:Chautauqua Cinema\, Chautauqua Cinema
CATEGORIES:Movies,Chautauqua Institution Program,Weekly Themes,Week Three (July 11–18)
ATTACH;FMTTYPE=image/jpeg:https://www.chq.org/wp-content/uploads/2025/06/Warfare.jpg
END:VEVENT
BEGIN:VEVENT
DTSTART;TZID=America/New_York:20250705T180000
DTEND;TZID=America/New_York:20250705T180000
DTSTAMP:20260423T082133
CREATED:20250630T160018Z
LAST-MODIFIED:20250701T190014Z
UID:94649-1751738400-1751738400@www.chq.org
SUMMARY:School of Music: SAI Competition Semifinal Round
DESCRIPTION:
URL:https://www.chq.org/event/school-of-music-sai-competition-semifinal-round/
LOCATION:Fletcher Music Hall\, Fletcher Music Hall
CATEGORIES:Chautauqua Institution Program,Weekly Themes,Week Three (July 11–18),School of Music
ATTACH;FMTTYPE=image/jpeg:https://www.chq.org/wp-content/uploads/2025/06/Fletcher_02-1.jpg
END:VEVENT
BEGIN:VEVENT
DTSTART;TZID=America/New_York:20250705T201500
DTEND;TZID=America/New_York:20250705T201500
DTSTAMP:20260423T082133
CREATED:20241121T150000Z
LAST-MODIFIED:20250701T150916Z
UID:88994-1751746500-1751746500@www.chq.org
SUMMARY:Denyce Graves with the Chautauqua Symphony Orchestra
DESCRIPTION:Rossen Milanov\, conductor\nDenyce Graves\, mezzo-soprano \nRecognized as “an operatic superstar of the 21st century” by USA Today\, mezzo-soprano Denyce Graves’ career has garnered unparalleled popular and critical acclaim. The recently appointed artistic advisor of the Chautauqua Opera Conservatory\, Graves is artistic director of The Denyce Graves Foundation\, which she founded in 2021. Kicking off a week exploring “Art in Action: Building Community Through the Arts\,” Graves joins the Chautauqua Symphony Orchestra under the baton of Rossen Milanov for an evening of opera highlights. \nDenyce Graves will give the morning lecture on Tuesday\, July 8. \nProgram to be announced.
URL:https://www.chq.org/event/denyce-graves-with-the-chautauqua-symphony-orchestra/
LOCATION:Amphitheater\, Amphitheater
CATEGORIES:Chautauqua Institution Program,Weekly Themes,Week Three (July 11–18),Chautauqua Symphony Orchestra/Classical Concerts
ATTACH;FMTTYPE=image/jpeg:https://www.chq.org/wp-content/uploads/2025/06/Denyce-Graves_CSO_update.jpg
END:VEVENT
BEGIN:VEVENT
DTSTART;TZID=America/New_York:20250705T203000
DTEND;TZID=America/New_York:20250705T203000
DTSTAMP:20260423T082133
CREATED:20250617T001543Z
LAST-MODIFIED:20250621T160046Z
UID:94053-1751747400-1751747400@www.chq.org
SUMMARY:NATIONAL ANTHEM
DESCRIPTION:Dylan (Charlie Plummer)\, a soft-spoken 21-year-old construction worker\, is the de facto father figure to his little brother and works odd jobs to help the family get by. After he finds himself with the opportunity to work at a ranch\, he is welcomed by a vibrant community of rodeo performers who openly explore their identities and sexuality. “A glorious portrait of rural queer Americana.” -Kristy Puchko\, Mashable “Seems impossibly idyllic yet palpably authentic at the same time. -David Lewis\, SF Chronicle “Tender and moving.” -Brian Tallerico\, RogerEbert.com  (R\, 99m)
URL:https://www.chq.org/event/national-anthem-2/
LOCATION:Chautauqua Cinema\, Chautauqua Cinema
CATEGORIES:Movies,Chautauqua Institution Program,Weekly Themes,Week Three (July 11–18)
ATTACH;FMTTYPE=image/jpeg:https://www.chq.org/wp-content/uploads/2025/06/NationalAnthem.jpg
END:VEVENT
END:VCALENDAR