BEGIN:VCALENDAR
VERSION:2.0
PRODID:-//Chautauqua Institution - ECPv6.15.20//NONSGML v1.0//EN
CALSCALE:GREGORIAN
METHOD:PUBLISH
X-WR-CALNAME:Chautauqua Institution
X-ORIGINAL-URL:https://www.chq.org
X-WR-CALDESC:Events for Chautauqua Institution
REFRESH-INTERVAL;VALUE=DURATION:PT1H
X-Robots-Tag:noindex
X-PUBLISHED-TTL:PT1H
BEGIN:VTIMEZONE
TZID:America/New_York
BEGIN:DAYLIGHT
TZOFFSETFROM:-0500
TZOFFSETTO:-0400
TZNAME:EDT
DTSTART:20240310T070000
END:DAYLIGHT
BEGIN:STANDARD
TZOFFSETFROM:-0400
TZOFFSETTO:-0500
TZNAME:EST
DTSTART:20241103T060000
END:STANDARD
BEGIN:DAYLIGHT
TZOFFSETFROM:-0500
TZOFFSETTO:-0400
TZNAME:EDT
DTSTART:20250309T070000
END:DAYLIGHT
BEGIN:STANDARD
TZOFFSETFROM:-0400
TZOFFSETTO:-0500
TZNAME:EST
DTSTART:20251102T060000
END:STANDARD
BEGIN:DAYLIGHT
TZOFFSETFROM:-0500
TZOFFSETTO:-0400
TZNAME:EDT
DTSTART:20260308T070000
END:DAYLIGHT
BEGIN:STANDARD
TZOFFSETFROM:-0400
TZOFFSETTO:-0500
TZNAME:EST
DTSTART:20261101T060000
END:STANDARD
END:VTIMEZONE
BEGIN:VEVENT
DTSTART;TZID=America/New_York:20250706T074500
DTEND;TZID=America/New_York:20250706T074500
DTSTAMP:20260421T064814
CREATED:20250610T231508Z
LAST-MODIFIED:20250610T231508Z
UID:93279-1751787900-1751787900@www.chq.org
SUMMARY:Episcopal Holy Eucharist
DESCRIPTION:
URL:https://www.chq.org/event/episcopal-holy-eucharist-48/
LOCATION:Chapel of the Good Shepherd\, Chapel of the Good Shepherd
CATEGORIES:Community Group Event,Community Group Program,Weekly Themes,Week Three (July 11–18)
ATTACH;FMTTYPE=image/jpeg:https://www.chq.org/wp-content/uploads/2023/06/061922_AnthaneaumLawn_DT_01.jpg
END:VEVENT
BEGIN:VEVENT
DTSTART;TZID=America/New_York:20250706T083000
DTEND;TZID=America/New_York:20250706T083000
DTSTAMP:20260421T064814
CREATED:20250610T231535Z
LAST-MODIFIED:20250610T231535Z
UID:93317-1751790600-1751790600@www.chq.org
SUMMARY:Song\, Prayer\, Communion & Meditation
DESCRIPTION:
URL:https://www.chq.org/event/song-prayer-communion-meditation-3/
LOCATION:Hurlbut Church sanctuary\, Hurlbut Church sanctuary
CATEGORIES:Community Group Event,Community Group Program,Weekly Themes,Week Three (July 11–18)
ATTACH;FMTTYPE=image/jpeg:https://www.chq.org/wp-content/uploads/2021/05/HurlbutChurch.jpg
END:VEVENT
BEGIN:VEVENT
DTSTART;TZID=America/New_York:20250706T090000
DTEND;TZID=America/New_York:20250706T090000
DTSTAMP:20260421T064814
CREATED:20250610T231542Z
LAST-MODIFIED:20250610T231542Z
UID:93327-1751792400-1751792400@www.chq.org
SUMMARY:United Church of Christ Worship Service
DESCRIPTION:United Church of Christ Worship Service
URL:https://www.chq.org/event/united-church-of-christ-worship-service-13/
LOCATION:Randell Chapel\, UCC Headquarters
CATEGORIES:Community Group Event,Community Group Program,Weekly Themes,Week Three (July 11–18)
ATTACH;FMTTYPE=image/jpeg:https://www.chq.org/wp-content/uploads/2022/06/08XX16_FEAT_SunsetBellTower_CB.jpg
END:VEVENT
BEGIN:VEVENT
DTSTART;TZID=America/New_York:20250706T090000
DTEND;TZID=America/New_York:20250706T090000
DTSTAMP:20260421T064814
CREATED:20250610T231556Z
LAST-MODIFIED:20250610T231556Z
UID:93347-1751792400-1751792400@www.chq.org
SUMMARY:Episcopal Holy Eucharist
DESCRIPTION:Episcopal Holy Eucharist
URL:https://www.chq.org/event/episcopal-holy-eucharist-64/
LOCATION:Chapel of the Good Shepherd\, Chapel of the Good Shepherd
CATEGORIES:Community Group Event,Community Group Program,Weekly Themes,Week Three (July 11–18)
ATTACH;FMTTYPE=image/jpeg:https://www.chq.org/wp-content/uploads/2023/06/061922_AnthaneaumLawn_DT_01.jpg
END:VEVENT
BEGIN:VEVENT
DTSTART;TZID=America/New_York:20250706T091500
DTEND;TZID=America/New_York:20250706T091500
DTSTAMP:20260421T064814
CREATED:20250411T153043Z
LAST-MODIFIED:20250702T143937Z
UID:92028-1751793300-1751793300@www.chq.org
SUMMARY:Catholic Mass
DESCRIPTION:Catholic Mass
URL:https://www.chq.org/event/catholic-mass-2/
LOCATION:Hall of Christ: Sanctuary
CATEGORIES:Community Group Event,Community Group Program,Weekly Themes,Week Three (July 11–18)
ATTACH;FMTTYPE=image/jpeg:https://www.chq.org/wp-content/uploads/2024/09/hall_of_christ.jpg
END:VEVENT
BEGIN:VEVENT
DTSTART;TZID=America/New_York:20250706T093000
DTEND;TZID=America/New_York:20250706T093000
DTSTAMP:20260421T064814
CREATED:20250610T231549Z
LAST-MODIFIED:20250610T231549Z
UID:93337-1751794200-1751794200@www.chq.org
SUMMARY:Unity Service
DESCRIPTION:Unity Service
URL:https://www.chq.org/event/unity-service-13/
LOCATION:Hall of Missions\, Hall of Missions
CATEGORIES:Community Group Event,Community Group Program,Weekly Themes,Week Three (July 11–18)
ATTACH;FMTTYPE=image/jpeg:https://www.chq.org/wp-content/uploads/2021/08/20180815_gf_chq_11212.jpg
END:VEVENT
BEGIN:VEVENT
DTSTART;TZID=America/New_York:20250706T093000
DTEND;TZID=America/New_York:20250706T093000
DTSTAMP:20260421T064814
CREATED:20250610T231603Z
LAST-MODIFIED:20250610T231603Z
UID:93357-1751794200-1751794200@www.chq.org
SUMMARY:Quaker Worship Service
DESCRIPTION:Quaker Worship Sevice
URL:https://www.chq.org/event/quaker-worship-service-13/
LOCATION:Quaker House
CATEGORIES:Community Group Event,Community Group Program,Weekly Themes,Week Three (July 11–18)
ATTACH;FMTTYPE=image/jpeg:https://www.chq.org/wp-content/uploads/2022/06/QuakerHouse.jpg
END:VEVENT
BEGIN:VEVENT
DTSTART;TZID=America/New_York:20250706T093000
DTEND;TZID=America/New_York:20250706T093000
DTSTAMP:20260421T064814
CREATED:20250610T233127Z
LAST-MODIFIED:20250702T144515Z
UID:89786-1751794200-1751794200@www.chq.org
SUMMARY:Unitarian Universalist Service
DESCRIPTION:Unitarian Universalist Service
URL:https://www.chq.org/event/unitarian-universalist-service-12/
LOCATION:Hall of Philosophy\, Hall of Philosophy
CATEGORIES:Community Group Event,Community Group Program,Weekly Themes,Week Three (July 11–18)
ATTACH;FMTTYPE=image/jpeg:https://www.chq.org/wp-content/uploads/2022/06/hall_philosophy2-1.jpg
END:VEVENT
BEGIN:VEVENT
DTSTART;TZID=America/New_York:20250706T101500
DTEND;TZID=America/New_York:20250706T101500
DTSTAMP:20260421T064814
CREATED:20250410T231608Z
LAST-MODIFIED:20250624T220028Z
UID:91982-1751796900-1751796900@www.chq.org
SUMMARY:Sunday School
DESCRIPTION:Weekly Sunday School Program for Ages 3-11. Children of all faiths and no faith are welcome.
URL:https://www.chq.org/event/sunday-school-12/
LOCATION:Children’s School\, Children's School
CATEGORIES:Chautauqua Institution Program,Week Three (July 11–18),Weekly Themes,Youth Programs and Activities,Faith and Spiritual Programming
ATTACH;FMTTYPE=image/jpeg:https://www.chq.org/wp-content/uploads/2023/06/072522_GoldenHourWalk_DM_14-1.jpg
END:VEVENT
BEGIN:VEVENT
DTSTART;TZID=America/New_York:20250706T104500
DTEND;TZID=America/New_York:20250706T104500
DTSTAMP:20260421T064814
CREATED:20250304T143700Z
LAST-MODIFIED:20250625T000015Z
UID:90870-1751798700-1751798700@www.chq.org
SUMMARY:Rev. Dr. Suzanne Wenonah Duchesne
DESCRIPTION:The Rev. Dr. Suzanne Wenonah Duchesne\, is a teacher\, preacher\, scholar\, & consultant who delights in & encourages wholeness\, justice\, and healing with all creation. Her work in Beloved Speech\, centers on identity formation\, deep listening\, and relationship building\, particularly within the context of antiracist and decolonized preaching and worship practices. \nSuzanne’s passion for social justice is guided by her ongoing relationships with members of various Indigenous Nations\, including the Kiowa\, Lakota\, Cherokee\, MVSKOKE (Creek)\, Choctaw\, Chickasaw\, Abenaki\, Shinnecock\, Southern Ute\, Lenape\, and Yuchi. These connections enrich her understanding and advocacy for Indigenous Peoples within her ministry and scholarship. \nIn addition to her published works on decolonized and antiracist preaching\, she published essays\, and articles\, developed curricula\, designed worship experiences\, and crafted liturgies addressing critical topics such as Missing and Murdered Indigenous Women and Girls\, the Doctrine of Discovery\, Creation Care—including “Water is Life: Mní Wičóni”—the history of Methodist women preachers and activists\, John Wesley’s interactions with various nations during his time in Georgia\, and the legacy of Methodist involvement with Native American Boarding Schools. \nServing in various academic and ministerial roles\, she currently holds the position of Assistant Professor of Worship and Preaching and the Director of Mast Chapel at New Brunswick Theological Seminary. She earned her Ph.D. in Liturgical Studies with a concentration in Women’s Studies from Drew University Theological School.  An ordained elder in the Eastern Pennsylvania Conference\, Suzanne is also an antiracism trainer\, and Communications chairperson for the Northeastern Jurisdiction of the Native American Ministries Committee for The United Methodist Church.  \nHer work with the diverse faculty\, staff\, and student body at NBTS is informed by her experiences leading churches of various sizes and settings that included congregations comprised of white settlers as well as arrivants\, multi-lingual\, multi-cultural\, and inter-generational members. Inspired by her training as a fine artist\, dancer\, and thespian\, her congregations engaged in various worship styles such as Blended\, sacramental-contemplative\, Pentacostal-Charismatic\, Maranatha style Contemporary\, and Emergent Ancient-Modern. \nWoven throughout her life has been a calling to engage in practices and honest conversations that strive to undermine and dismantle systemic racism and colonization and invite people to live more deeply into the kin-dom of God by seeking to honor each other’s differences\, and embody a spirituality that recognizes all creation as beloved.
URL:https://www.chq.org/event/rev-dr-suzanne-wenonah-duchesne-6/
LOCATION:Amphitheater\, Amphitheater
CATEGORIES:Chautauqua Institution Program,Weekly Themes,Week Three (July 11–18),CHQ Assembly,Faith and Spiritual Programming,Weekly Chaplains
ATTACH;FMTTYPE=image/jpeg:https://www.chq.org/wp-content/uploads/2025/03/Wenonah_Duchesen_Suzanne_Chaplain_Wk3_photo2.jpg
END:VEVENT
BEGIN:VEVENT
DTSTART;TZID=America/New_York:20250706T110000
DTEND;TZID=America/New_York:20250706T110000
DTSTAMP:20260421T064814
CREATED:20250620T171516Z
LAST-MODIFIED:20250701T144555Z
UID:94255-1751799600-1751799600@www.chq.org
SUMMARY:Art in the Park
DESCRIPTION:Hosted by the Friends of CVA\, Art in the Park is an open art fair with 70+ vendors held in Miller Park\, showcasing art by members of the Chautauqua community\, artists-in-residence from the School of Art\, and artisans from the region around Chautauqua Institution. Items for sale include ceramics\, paintings\, prints\, Chautauqua-themed trinkets\, pieces made of up-cycled materials\, homemade soaps\, hand-dyed silk clothing\, organic cosmetics\, embellished handbags and fine jewelry. Art in the Park markets are always planned for Sundays\, when admission to the grounds is free\, so the markets can be accessible for Institution residents and members of the surrounding community alike. \nFor artist registration information\, visit: https://art.chq.org/friends-of-cva/art-in-the-park/
URL:https://www.chq.org/event/art-in-the-park-3/
LOCATION:Miller Park\, Miller Park
CATEGORIES:Chautauqua Institution Program,Week Two (July 4–11),Weekly Themes,Visual Arts
ATTACH;FMTTYPE=image/jpeg:https://www.chq.org/wp-content/uploads/2023/01/080722_ArtInThePark_SS_01.jpg
END:VEVENT
BEGIN:VEVENT
DTSTART;TZID=America/New_York:20250706T113000
DTEND;TZID=America/New_York:20250706T113000
DTSTAMP:20260421T064814
CREATED:20250611T171728Z
LAST-MODIFIED:20250702T144952Z
UID:93862-1751801400-1751801400@www.chq.org
SUMMARY:Kosher BBQ
DESCRIPTION:
URL:https://www.chq.org/event/kosher-bbq-2/
LOCATION:Miller Park\, Miller Park
CATEGORIES:Community Group Event,Community Group Program,Weekly Themes,Week Three (July 11–18)
ATTACH;FMTTYPE=image/jpeg:https://www.chq.org/wp-content/uploads/2022/06/20170816_gf_00736.jpg
END:VEVENT
BEGIN:VEVENT
DTSTART;TZID=America/New_York:20250706T121500
DTEND;TZID=America/New_York:20250706T121500
DTSTAMP:20260421T064814
CREATED:20250610T233057Z
LAST-MODIFIED:20250610T233057Z
UID:93397-1751804100-1751804100@www.chq.org
SUMMARY:Twelve Step Meeting
DESCRIPTION:
URL:https://www.chq.org/event/twelve-step-meeting-7/
LOCATION:Hurlbut Marion Lawrance
CATEGORIES:Community Group Event,Community Group Program,Weekly Themes,Week Three (July 11–18)
ATTACH;FMTTYPE=image/jpeg:https://www.chq.org/wp-content/uploads/2021/05/HurlbutChurch.jpg
END:VEVENT
BEGIN:VEVENT
DTSTART;TZID=America/New_York:20250706T130000
DTEND;TZID=America/New_York:20250706T130000
DTSTAMP:20260421T064814
CREATED:20250625T180042Z
LAST-MODIFIED:20250702T144912Z
UID:92026-1751806800-1751806800@www.chq.org
SUMMARY:Bahai Faith
DESCRIPTION:Susan Burke and Sharon Eakes talk on racism in America
URL:https://www.chq.org/event/bahai-faith/
LOCATION:Hall of Christ: Sanctuary
CATEGORIES:Weekly Themes,Week Three (July 11–18)
ATTACH;FMTTYPE=image/jpeg:https://www.chq.org/wp-content/uploads/2024/09/hall_of_christ.jpg
END:VEVENT
BEGIN:VEVENT
DTSTART;TZID=America/New_York:20250706T140000
DTEND;TZID=America/New_York:20250706T140000
DTSTAMP:20260421T064814
CREATED:20250211T221520Z
LAST-MODIFIED:20250612T211527Z
UID:90174-1751810400-1751810400@www.chq.org
SUMMARY:CTC presents the DNAWORKS production of The Real James Bond...Was Dominican
DESCRIPTION:Written and Performed by Christopher Rivas\nDeveloped with and Directed by Daniel Banks  \nWhat happens when a James Bond-obsessed Dominican boy in Queens (who won’t go anywhere without his nerf gun)\, finds out that the real James Bond was Dominican? This is a true story about Porfirio Rubirosa\, Ian Fleming’s inspiration for Bond\, and a young Dominican actor-to-be\, whose discovery of “Rubi” shakes his very foundation. Set to a live percussion score and immersive projections\, The Real James Bond…Was Dominican is a young man’s guide to love\, color\, code-switching\, white-washing\, success\, fake-it-till-you-make-it\, and the roller coaster of finding one’s true self.  \nContent advisory: This production contains mild language usage\, discussions of racism\, colorism\, and mild sexual content.   \nRecommended for audiences ages 13 and older.
URL:https://www.chq.org/event/ctc-presents-the-dnaworks-production-of-the-real-james-bond-was-dominican-2/
LOCATION:Bratton Theater\, Bratton Theater
CATEGORIES:Chautauqua Institution Program,Weekly Themes,Week Three (July 11–18),Theater
ATTACH;FMTTYPE=image/jpeg:https://www.chq.org/wp-content/uploads/2025/05/CTC_2025_EventPhotos_Bond.jpg
END:VEVENT
BEGIN:VEVENT
DTSTART;TZID=America/New_York:20250706T150000
DTEND;TZID=America/New_York:20250706T150000
DTSTAMP:20260421T064814
CREATED:20250214T210000Z
LAST-MODIFIED:20250625T001553Z
UID:90466-1751814000-1751814000@www.chq.org
SUMMARY:Illusionist Leon Etienne
DESCRIPTION:You’ve seen him on America’s Got Talent\, Jimmy Fallon\, Masters of Illusion\, and Penn & Teller: Fool Us! Illusionist Leon Etienne’s jaw-dropping\, critically acclaimed hit show is not to be missed! Witness this family-friendly spectacular featuring the world’s best illusions\, award-winning sleight of hand\, and hilarious comedy. This show is an immersive experience that brings joy\, laughter\, and wonder when the world needs it most!
URL:https://www.chq.org/event/illusionist-leon-etienne/
LOCATION:Amphitheater\, Amphitheater
CATEGORIES:Chautauqua Institution Program,Week Two (July 4–11),Weekly Themes,Family Entertainment
ATTACH;FMTTYPE=image/jpeg:https://www.chq.org/wp-content/uploads/2025/02/Leon-Etienne-Magic-Rocks.jpg
END:VEVENT
BEGIN:VEVENT
DTSTART;TZID=America/New_York:20250706T153000
DTEND;TZID=America/New_York:20250706T153000
DTSTAMP:20260421T064814
CREATED:20250414T150011Z
LAST-MODIFIED:20250825T133011Z
UID:92093-1751815800-1751815800@www.chq.org
SUMMARY:Nicole Cooley and Mary Hall Surface
DESCRIPTION:Chautauqua Writers’ Center Faculty Reading — Week Three — Featuring Nicole Cooley (Poetry) and Mary Hall Surface (Muli-Genre) \nNicole Cooley grew up in New Orleans\, Louisiana.  Her most recent book is the collection of poetry Mother Water Ash (Louisiana University Press\, July 2024) as well as the two poetry collections\, Girl after Girl after Girl (Louisiana State University Press\, 2017) and Of Marriage (Alice James Books\, 2018).  She has published four other collections of poems\, Breach\, Milk Dress\, The Afflicted Girls and Resurrection\, as well as a novel\, Judy Garland\, Ginger Love\, two chapbooks\, Frozen Charlottes\, A Sequence\, and Vanishing Point\, and a collaborative artists’ book (with book artist Maureen Cummins)\, Salem Lessons.  \nHer awards include The Walt Whitman Award from the Academy of American Poets\, a Discovery/The Nation Award\, an NEA\, a Creative Artists fellowship from The American Antiquarian Society\, and the Emily Dickinson Award from the Poetry Society of America. She is currently completing a non-fiction book project\, Dollhouse: A Book of Miniature Histories\, excerpts of which have appeared in The Guardian\, The Atlantic\, The Rumpus\, and the Feminist Wire. She is also currently finishing a manuscript of poems\, titled Trash. Poems from this collection have recently appeared in Blackbird\, Poetry\, and Tupelo Quarterly. She has taught at Bucknell University and the Stonecoast Low-Residency MFA program\, as well in Merida\, Mexico with US Poets in Mexico and at the Chautauqua Institution and at the Young Arts Foundation in Miami\, Florida.  \nMary Hall Surface is an award-winning teaching artist\, playwright\, theatre director\, and museum educator. She has presented her art-inspired writing workshops at the National Gallery of Art\, Smithsonian American Art Museum\, Kennedy Center\, Chautauqua Institution\, Washington National Cathedral\, Phoenix Art Museum\, Crystal Bridges Museum of American Art\, and Harvard’s Project Zero Classroom. Her “Write into Art” series is among the Smithsonian Associates most popular programs.  Her innovative approach to the writing-visual art connection was featured in The Washington Post in 2017. Her plays have been produced worldwide including 17 productions at the Kennedy Center. She has been nominated for ten Helen Hayes Awards\, including four Charles McArthur Awards for Outstanding New Play\, and received the 2002 award for Outstanding Director of a Musical. Her work was recently commissioned for two films and a stage production by Washington’s Arena Stage. Mary Hall has published fifteen plays\, an anthology of her scripts\, two collections of scenes and monologues\, and three original cast albums.   www.maryhallsurface.com.
URL:https://www.chq.org/event/nicole-cooley-and-mary-hall-surface/
LOCATION:Hall of Philosophy\, Hall of Philosophy
CATEGORIES:Chautauqua Institution Program,Weekly Themes,Week Three (July 11–18),Chautauqua Writers’ Center,Literary Arts
ATTACH;FMTTYPE=image/jpeg:https://www.chq.org/wp-content/uploads/2025/04/CWC_FacultyReadings_Wk3.jpg
END:VEVENT
BEGIN:VEVENT
DTSTART;TZID=America/New_York:20250706T153000
DTEND;TZID=America/New_York:20250706T153000
DTSTAMP:20260421T064814
CREATED:20250617T150044Z
LAST-MODIFIED:20250621T160054Z
UID:94077-1751815800-1751815800@www.chq.org
SUMMARY:FLOW
DESCRIPTION:This Latvian Oscar Winner for Best Animated Feature follows a courageous cat after his home is devastated by a great flood. Teaming up with a capybara\, a lemur\, a bird\, and a dog they must rely on trust\, courage\, and wits to survive the perils of a newly aquatic planet. “A film full of wonders but not a single word of dialogue.” -Cath Clarke\, Guardian\n“Dreamy\, epic\, perilous and very beautiful.” -Ty Burr\, Washington Post  “Poignant\, unique\, absolutely gorgeous\, and a must-see.” -Kristy Puchko\, Mashable (PG\, 84m)
URL:https://www.chq.org/event/flow-3/
LOCATION:Chautauqua Cinema\, Chautauqua Cinema
CATEGORIES:Movies,Chautauqua Institution Program,Weekly Themes,Week Three (July 11–18)
ATTACH;FMTTYPE=image/jpeg:https://www.chq.org/wp-content/uploads/2025/06/Flow.jpg
END:VEVENT
BEGIN:VEVENT
DTSTART;TZID=America/New_York:20250706T160000
DTEND;TZID=America/New_York:20250706T160000
DTSTAMP:20260421T064814
CREATED:20250411T133055Z
LAST-MODIFIED:20250411T133055Z
UID:92011-1751817600-1751817600@www.chq.org
SUMMARY:Church of the Wild
DESCRIPTION:Kriss Young Miller and her husband Gary manage the Quaker House. Kriss is a 2022 graduate of Earlham School of Religion with her Master of Arts in Peace and Social Transformation. Kriss is currently a student of Victoria Loorz in the Seminary of the Wild Earth at the Center for Wild Spirituality.  She has completed Wild Church Leadership training and is deeply grateful for the opportunity to work to build connections with Chautauquans in the sacred wild.
URL:https://www.chq.org/event/church-of-the-wild-18/
LOCATION:Outdoor Classroom
CATEGORIES:Chautauqua Institution Program,Weekly Themes,Week Three (July 11–18),Faith and Spiritual Programming
ATTACH;FMTTYPE=image/jpeg:https://www.chq.org/wp-content/uploads/2023/03/071522_SunriseKayking_GP_03.jpg
END:VEVENT
BEGIN:VEVENT
DTSTART;TZID=America/New_York:20250706T163000
DTEND;TZID=America/New_York:20250706T163000
DTSTAMP:20260421T064814
CREATED:20250410T223115Z
LAST-MODIFIED:20250701T153900Z
UID:91948-1751819400-1751819400@www.chq.org
SUMMARY:Blessing of the Animals
DESCRIPTION:Weather Permitting
URL:https://www.chq.org/event/blessing-of-the-animals-5/
LOCATION:Miller Park\, Miller Park
CATEGORIES:Chautauqua Institution Program,Weekly Themes,Week Three (July 11–18),Faith and Spiritual Programming
ATTACH;FMTTYPE=image/jpeg:https://www.chq.org/wp-content/uploads/2023/06/072521_BlessingOfTheAnimals_KT_03.jpg
END:VEVENT
BEGIN:VEVENT
DTSTART;TZID=America/New_York:20250706T163000
DTEND;TZID=America/New_York:20250706T163000
DTSTAMP:20260421T064814
CREATED:20250623T211525Z
LAST-MODIFIED:20250702T143815Z
UID:94406-1751819400-1751819400@www.chq.org
SUMMARY:Orientation for New Chautauquans
DESCRIPTION:Join us for lemonade and cookies at the Orientation for New Chautauquans\, where we warmly welcome you to our vibrant community. This event is designed to acquaint you with the rich history\, diverse programs\, and unique experiences that Chautauqua has to offer. Meet fellow newcomers\, engage with staff\, and learn about the array of cultural\, educational\, and recreational opportunities available. Whether you’re here for a day\, a week\, or the entire season\, this orientation will help you make the most of your visit and feel right at home.
URL:https://www.chq.org/event/orientation-for-new-chautauquans-3/
LOCATION:Hultquist 101\, Hultquist 101
CATEGORIES:Chautauqua Institution Program
ATTACH;FMTTYPE=image/jpeg:https://www.chq.org/wp-content/uploads/2022/07/20180815_gf_chq_11212.jpg
END:VEVENT
BEGIN:VEVENT
DTSTART;TZID=America/New_York:20250706T170000
DTEND;TZID=America/New_York:20250706T170000
DTSTAMP:20260421T064814
CREATED:20250410T221542Z
LAST-MODIFIED:20250625T000034Z
UID:91836-1751821200-1751821200@www.chq.org
SUMMARY:Children's Organ Tours
DESCRIPTION:
URL:https://www.chq.org/event/organ-tours-2/
LOCATION:Amphitheater\, Amphitheater
CATEGORIES:Chautauqua Institution Program,Weekly Themes,Week Three (July 11–18)
ATTACH;FMTTYPE=image/jpeg:https://www.chq.org/wp-content/uploads/2024/09/OrganTour_03.jpg
END:VEVENT
BEGIN:VEVENT
DTSTART;TZID=America/New_York:20250706T170000
DTEND;TZID=America/New_York:20250706T170000
DTSTAMP:20260421T064814
CREATED:20250410T223054Z
LAST-MODIFIED:20250616T130015Z
UID:91916-1751821200-1751821200@www.chq.org
SUMMARY:Palestine Park Tour
DESCRIPTION:“A Journey Through the Holy Land in the times of Jesus”
URL:https://www.chq.org/event/palestine-park-tour-5/
LOCATION:Palestine Park\, Palestine Park
CATEGORIES:Chautauqua Institution Program,Weekly Themes,Week Three (July 11–18),Faith and Spiritual Programming
ATTACH;FMTTYPE=image/jpeg:https://www.chq.org/wp-content/uploads/2022/06/071918_Palestine_Park_DM_06.jpg
END:VEVENT
BEGIN:VEVENT
DTSTART;TZID=America/New_York:20250706T180000
DTEND;TZID=America/New_York:20250706T180000
DTSTAMP:20260421T064814
CREATED:20250621T160049Z
LAST-MODIFIED:20250621T160049Z
UID:94366-1751824800-1751824800@www.chq.org
SUMMARY:WARFARE
DESCRIPTION:Written and directed by Iraq War veteran Ray Mendoza and Alex Garland (Ex Machina\, Civil War\, 28 Days Later)\, Warfare embeds audiences with a platoon of American Navy SEALs on a surveillance mission gone wrong in insurgent territory. A visceral\, boots-on-the-ground story of modern warfare and brotherhood\, told like never before: in real time and based on the memory of the people who lived it. “The sheer technical brilliance and strength of performances\, cannot fail to connect when you take on the film on its own terms\, as pure human experience in the most hellish of circumstances.” -Martin Robinson\, London Evening Standard (R\, 95m) 
URL:https://www.chq.org/event/warfare-3/
LOCATION:Chautauqua Cinema\, Chautauqua Cinema
CATEGORIES:Movies,Chautauqua Institution Program,Weekly Themes,Week Three (July 11–18)
ATTACH;FMTTYPE=image/jpeg:https://www.chq.org/wp-content/uploads/2025/06/Warfare.jpg
END:VEVENT
BEGIN:VEVENT
DTSTART;TZID=America/New_York:20250706T190000
DTEND;TZID=America/New_York:20250706T190000
DTSTAMP:20260421T064814
CREATED:20250211T221521Z
LAST-MODIFIED:20250530T183011Z
UID:90176-1751828400-1751828400@www.chq.org
SUMMARY:CTC presents the DNAWORKS production of The Real James Bond...Was Dominican
DESCRIPTION:What happens when a James Bond-obsessed Dominican boy in Queens (who won’t go anywhere without his nerf gun)\, finds out that the real James Bond was Dominican? This is a true story about Porfirio Rubirosa\, Ian Fleming’s inspiration for Bond\, and a young Dominican actor-to-be\, whose discovery of “Rubi” shakes his very foundation. Set to a live percussion score and immersive projections\, The Real James Bond…Was Dominican is a young man’s guide to love\, color\, code-switching\, white-washing\, success\, fake-it-till-you-make-it\, and the roller coaster of finding one’s true self.  \nRecommended for audiences ages 13 and older. \nWritten and Performed by Christopher Rivas
URL:https://www.chq.org/event/ctc-presents-the-dnaworks-production-of-the-real-james-bond-was-dominican-3/
LOCATION:Bratton Theater\, Bratton Theater
CATEGORIES:Chautauqua Institution Program,Weekly Themes,Week Three (July 11–18),Theater
ATTACH;FMTTYPE=image/jpeg:https://www.chq.org/wp-content/uploads/2025/05/CTC_2025_EventPhotos_Bond.jpg
END:VEVENT
BEGIN:VEVENT
DTSTART;TZID=America/New_York:20250706T190000
DTEND;TZID=America/New_York:20250706T190000
DTSTAMP:20260421T064814
CREATED:20250521T213023Z
LAST-MODIFIED:20251204T190019Z
UID:92868-1751828400-1751828400@www.chq.org
SUMMARY:Hebrew Congregation\, Shirley Lazarus Sunday Evening Lecture Series
DESCRIPTION:
URL:https://www.chq.org/event/hebrew-congregation-shirley-lazarus-sunday-evening-lecture-series-10/
LOCATION:Smith Wilkes Hall\, Smith Wilkes Hall
CATEGORIES:Community Group Event,Community Group Program,Weekly Themes,Week Three (July 11–18)
ATTACH;FMTTYPE=image/jpeg:https://www.chq.org/wp-content/uploads/2022/06/smith_wilkes.jpg
END:VEVENT
BEGIN:VEVENT
DTSTART;TZID=America/New_York:20250706T200000
DTEND;TZID=America/New_York:20250706T200000
DTSTAMP:20260421T064814
CREATED:20250410T221537Z
LAST-MODIFIED:20250625T000029Z
UID:91827-1751832000-1751832000@www.chq.org
SUMMARY:Sacred Song Service - Come and Find the Quiet Center
DESCRIPTION:
URL:https://www.chq.org/event/sacred-song-service-come-and-find-the-quiet-center/
LOCATION:Amphitheater\, Amphitheater
CATEGORIES:Chautauqua Institution Program,Weekly Themes,Week Three (July 11–18),Faith and Spiritual Programming
ATTACH;FMTTYPE=image/jpeg:https://www.chq.org/wp-content/uploads/2024/03/062523_SacredSong_CL_04-1.jpg
END:VEVENT
BEGIN:VEVENT
DTSTART;TZID=America/New_York:20250706T203000
DTEND;TZID=America/New_York:20250706T203000
DTSTAMP:20260421T064814
CREATED:20250617T001544Z
LAST-MODIFIED:20250621T160047Z
UID:94054-1751833800-1751833800@www.chq.org
SUMMARY:NATIONAL ANTHEM
DESCRIPTION:Dylan (Charlie Plummer)\, a soft-spoken 21-year-old construction worker\, is the de facto father figure to his little brother and works odd jobs to help the family get by. After he finds himself with the opportunity to work at a ranch\, he is welcomed by a vibrant community of rodeo performers who openly explore their identities and sexuality. “A glorious portrait of rural queer Americana.” -Kristy Puchko\, Mashable “Seems impossibly idyllic yet palpably authentic at the same time. -David Lewis\, SF Chronicle “Tender and moving.” -Brian Tallerico\, RogerEbert.com  (R\, 99m)
URL:https://www.chq.org/event/national-anthem-3/
LOCATION:Chautauqua Cinema\, Chautauqua Cinema
CATEGORIES:Movies,Chautauqua Institution Program,Weekly Themes,Week Three (July 11–18)
ATTACH;FMTTYPE=image/jpeg:https://www.chq.org/wp-content/uploads/2025/06/NationalAnthem.jpg
END:VEVENT
END:VCALENDAR