BEGIN:VCALENDAR
VERSION:2.0
PRODID:-//Chautauqua Institution - ECPv6.15.20//NONSGML v1.0//EN
CALSCALE:GREGORIAN
METHOD:PUBLISH
X-WR-CALNAME:Chautauqua Institution
X-ORIGINAL-URL:https://www.chq.org
X-WR-CALDESC:Events for Chautauqua Institution
REFRESH-INTERVAL;VALUE=DURATION:PT1H
X-Robots-Tag:noindex
X-PUBLISHED-TTL:PT1H
BEGIN:VTIMEZONE
TZID:America/New_York
BEGIN:DAYLIGHT
TZOFFSETFROM:-0500
TZOFFSETTO:-0400
TZNAME:EDT
DTSTART:20240310T070000
END:DAYLIGHT
BEGIN:STANDARD
TZOFFSETFROM:-0400
TZOFFSETTO:-0500
TZNAME:EST
DTSTART:20241103T060000
END:STANDARD
BEGIN:DAYLIGHT
TZOFFSETFROM:-0500
TZOFFSETTO:-0400
TZNAME:EDT
DTSTART:20250309T070000
END:DAYLIGHT
BEGIN:STANDARD
TZOFFSETFROM:-0400
TZOFFSETTO:-0500
TZNAME:EST
DTSTART:20251102T060000
END:STANDARD
BEGIN:DAYLIGHT
TZOFFSETFROM:-0500
TZOFFSETTO:-0400
TZNAME:EDT
DTSTART:20260308T070000
END:DAYLIGHT
BEGIN:STANDARD
TZOFFSETFROM:-0400
TZOFFSETTO:-0500
TZNAME:EST
DTSTART:20261101T060000
END:STANDARD
END:VTIMEZONE
BEGIN:VEVENT
DTSTART;TZID=America/New_York:20250804T150000
DTEND;TZID=America/New_York:20250815T170000
DTSTAMP:20260424T103622
CREATED:20250722T190017Z
LAST-MODIFIED:20250728T153020Z
UID:95480-1754319600-1755277200@www.chq.org
SUMMARY:"How Sweet the Sound: A Visual Interpretation by Charly Palmer" Exhibition
DESCRIPTION:“How Sweet the Sound: A Visual Interpretation by Charly Palmer” exhibition runs August 4–15. Charly Palmer’s illustrations are featured in the book “How Sweet the Sound\,” written by Kwame Alexander\, Chautauqua’s Michael I. Rudell Artistic Director of Literary Arts and Writer in Residence. \nCharly Palmer is a renowned award-winning fine artist and illustrator known for his compelling artwork that reflects African ancestry and contemporary experiences. Through his paintings\, Palmer creates rhythmic visual narratives that challenge viewers’ perceptions. His innate ability to capture the nuances of Blackness is expressed through rich depth\, intricate patterns\, symbols\, and textures. Notable achievements include designing the Black Heritage Stamp honoring Judge Constance Baker Motley\, creating the album cover for John Legend’s “Bigger Love\,” and illustrating the cover for TIME Magazine’s “America Must Change.” He also co-authored the award-winning “New Brownies Book: A Love Letter To Black Families.”
URL:https://www.chq.org/event/how-sweet-the-sound-a-visual-interpretation-by-charly-palmer-exhibition/
LOCATION:CVA: Arts Quad
CATEGORIES:Chautauqua Institution Program,Weekly Themes,Week Seven (August 8–15),Visual Arts
ATTACH;FMTTYPE=image/jpeg:https://www.chq.org/wp-content/uploads/2025/07/Charly-Palmer.jpg
END:VEVENT
BEGIN:VEVENT
DTSTART;TZID=America/New_York:20250812T074500
DTEND;TZID=America/New_York:20250812T074500
DTSTAMP:20260424T103622
CREATED:20250410T221525Z
LAST-MODIFIED:20250410T221525Z
UID:91809-1754984700-1754984700@www.chq.org
SUMMARY:CHQ Mystic Heart: Larry Terkel
DESCRIPTION:Larry Terkel\, along with his wife Susan\, founded The Spiritual Life Society\, an inter-denominational center for spiritual and holistic studies\, where he teaches yoga and meditation and gives weekly talks. As its licensed minister\, Larry has officiated at over 2\,000 weddings for couples of all faiths. He is also the founder of Temple Beth Shalom\, in Hudson\, Ohio. Larry and Susan are co-authors of the book\, Small Change: It’s the LITTLE Things in Life That Make a BIG Difference! (Tarcher/Penguin) a finalist for the 2004 National Books for a Better Life Award.
URL:https://www.chq.org/event/chq-mystic-heart-larry-terkel-2/
LOCATION:Presbyterian Chapel
CATEGORIES:Chautauqua Institution Program,Weekly Themes,Week Eight (August 15–22),Faith and Spiritual Programming
ATTACH;FMTTYPE=image/jpeg:https://www.chq.org/wp-content/uploads/2022/06/hall_philosophy2-1.jpg
END:VEVENT
BEGIN:VEVENT
DTSTART;TZID=America/New_York:20250812T074500
DTEND;TZID=America/New_York:20250812T074500
DTSTAMP:20260424T103622
CREATED:20250611T131522Z
LAST-MODIFIED:20250611T131522Z
UID:93723-1754984700-1754984700@www.chq.org
SUMMARY:Episcopal Holy Eucharist
DESCRIPTION:Episcopal Holy Eucharist
URL:https://www.chq.org/event/episcopal-holy-eucharist-102/
LOCATION:Chapel of the Good Shepherd\, Chapel of the Good Shepherd
CATEGORIES:Community Group Event,Community Group Program,Weekly Themes,Week Eight (August 15–22)
ATTACH;FMTTYPE=image/jpeg:https://www.chq.org/wp-content/uploads/2023/06/061922_AnthaneaumLawn_DT_01.jpg
END:VEVENT
BEGIN:VEVENT
DTSTART;TZID=America/New_York:20250812T080000
DTEND;TZID=America/New_York:20250812T080000
DTSTAMP:20260424T103622
CREATED:20250611T131538Z
LAST-MODIFIED:20250611T131538Z
UID:93734-1754985600-1754985600@www.chq.org
SUMMARY:Daily Word Meditation
DESCRIPTION:(Programmed by Unity of Chautauqua)
URL:https://www.chq.org/event/daily-word-meditation-38/
LOCATION:Hall of Missions\, Hall of Missions
CATEGORIES:Community Group Event,Community Group Program,Weekly Themes,Week Eight (August 15–22)
ATTACH;FMTTYPE=image/jpeg:https://www.chq.org/wp-content/uploads/2022/06/20170802_rd_03270.jpg
END:VEVENT
BEGIN:VEVENT
DTSTART;TZID=America/New_York:20250812T084500
DTEND;TZID=America/New_York:20250812T084500
DTSTAMP:20260424T103622
CREATED:20250611T131553Z
LAST-MODIFIED:20250611T131553Z
UID:93744-1754988300-1754988300@www.chq.org
SUMMARY:Catholic Mass
DESCRIPTION:Catholic Mass
URL:https://www.chq.org/event/catholic-mass-55/
LOCATION:Chapel of the Good Shepherd\, Chapel of the Good Shepherd
CATEGORIES:Community Group Event,Community Group Program,Weekly Themes,Week Eight (August 15–22)
ATTACH;FMTTYPE=image/jpeg:https://www.chq.org/wp-content/uploads/2022/06/070216_ChapelGoodShepherd_EA_03.jpg
END:VEVENT
BEGIN:VEVENT
DTSTART;TZID=America/New_York:20250812T085500
DTEND;TZID=America/New_York:20250812T085500
DTSTAMP:20260424T103622
CREATED:20250410T223048Z
LAST-MODIFIED:20250701T161118Z
UID:91907-1754988900-1754988900@www.chq.org
SUMMARY:Chautauqua Prays for Peace though Compassion
DESCRIPTION:
URL:https://www.chq.org/event/chautauqua-prays-for-peace-though-compassion-73/
LOCATION:Hall of Philosophy Grove
CATEGORIES:Community Group Event,Community Group Program,Weekly Themes,Week Eight (August 15–22)
ATTACH;FMTTYPE=image/jpeg:https://www.chq.org/wp-content/uploads/2022/06/PeacePrayers2_072115_RW_master-1.jpg
END:VEVENT
BEGIN:VEVENT
DTSTART;TZID=America/New_York:20250812T091500
DTEND;TZID=America/New_York:20250812T091500
DTSTAMP:20260424T103622
CREATED:20250304T143700Z
LAST-MODIFIED:20250806T181516Z
UID:90879-1754990100-1754990100@www.chq.org
SUMMARY:Rev. Dr. J. Peter Holmes
DESCRIPTION:The Rev. Dr. J. Peter Holmes has served since 2001 as the Minister of the Congregation of the historic Yorkminster Park Baptist Church in the heart of Toronto. During this time the congregation has grown into an increasingly diverse and multi-cultural family. While the church has a long history of excellence in music\, liturgy and preaching\, it has also become a community centre for culture and the arts as well as many missional endeavours focussed on relieving food insecurity\, providing shelter and offering housing for those who are homeless and support for refugees. \nWhile Peter’s family roots are in Ontario\, as a child of the manse he spent most of his formative years in Victoria\, British Columbia where he graduated from the University of Victoria and served as Ombudsman of the university. He holds a Master of Divinity degree from Wycliffe College at the University of Toronto\, and a Doctor of Ministry from Acadia University in Nova Scotia. Prior to his call to Yorkminster Park\, he served churches in Toronto and Montreal. \nPeter approaches the pulpit as a gifted story teller with a pastoral heart. He has often led pilgrimages of sacred spaces in both Canada and the USA and is the host of Yorkminster Park’s Lester Randall Preaching Fellowship which attracts clergy from far and wide. Peter has contributed to Biblical commentaries and preached in churches in Europe\, the Middle East and in both Canada and the United States. \nIn recognition of Peter’s leadership in ecumenical and interfaith endeavours in the city and beyond\, the Toronto Commandery of the Order of St. Lazarus of Jerusalem named him as the recipient of their 2022 Marjorie McKinnon Ecumenical Lifetime Achievement Award. Peter was a recipient of the Queen Elizabeth ll Diamond Jubilee medal and the King Charles Coronation medal\, both awarded to “honour significant contributions and achievements by Canadians.” In 2016 Peter was named an Honorary Lifetime Fellow of Acadia Divinity College and in 2024 awarded an honorary Doctor of Divinity from the same school. He serves as Chaplain to the Royal Commonwealth Society\, and a board member of the House of Compassion \nPeter is married to Janet and they have two daughters\, a son and one delightful granddaughter. In his spare time Peter loves to garden\, cycle\, walk and cheer for the Leafs\, Blue Jays and Buffalo Bills.
URL:https://www.chq.org/event/rev-dr-j-peter-holmes-3/
LOCATION:Amphitheater\, Amphitheater
CATEGORIES:Chautauqua Institution Program,Weekly Themes,Week Eight (August 15–22),CHQ Assembly,Faith and Spiritual Programming,Weekly Chaplains
ATTACH;FMTTYPE=image/jpeg:https://www.chq.org/wp-content/uploads/2025/02/Holmes_James_Chaplain_photo_wk8-1.jpg
END:VEVENT
BEGIN:VEVENT
DTSTART;TZID=America/New_York:20250812T101500
DTEND;TZID=America/New_York:20250812T101500
DTSTAMP:20260424T103622
CREATED:20250611T131612Z
LAST-MODIFIED:20250611T131612Z
UID:93756-1754993700-1754993700@www.chq.org
SUMMARY:Service of Blessing and Healing
DESCRIPTION:
URL:https://www.chq.org/event/service-of-blessing-and-healing-83/
LOCATION:Randell Chapel\, UCC Headquarters
CATEGORIES:Chautauqua Institution Program,Weekly Themes,Week Eight (August 15–22),Faith and Spiritual Programming
ATTACH;FMTTYPE=image/jpeg:https://www.chq.org/wp-content/uploads/2022/06/20170816_gf_00736.jpg
END:VEVENT
BEGIN:VEVENT
DTSTART;TZID=America/New_York:20250812T104500
DTEND;TZID=America/New_York:20250812T104500
DTSTAMP:20260424T103622
CREATED:20250313T040000Z
LAST-MODIFIED:20250809T153007Z
UID:91206-1754995500-1754995500@www.chq.org
SUMMARY:Vali R. Nasr
DESCRIPTION:Vali R. Nasr is the Majid Khadduri Professor of International Affairs and Middle East Studies at the Johns Hopkins School of Advanced International Studies. Between 2012 and 2019 he served as dean of SAIS\, and between 2009 and 2011 as senior adviser to Ambassador Richard Holbrooke\, the U.S. Special Representative for Afghanistan and Pakistan. Nasr\, who has previously contributed to Chautauqua Institution’s Middle East Update and Chautauqua Lecture Series\, returns for a week on “The Middle East: The Gulf States’ Emerging Influence.” He’ll discuss the state of play in the Gulf States\, and the role the United States is playing in the rapidly-changing map of the Middle East.  \nNasr has advised world leaders and major corporations\, and is the author of several books\, including Iran’s Grand Strategy: A Political History; How Sanctions Work\, Iran and the Impact of Economic Warfare; The Dispensable Nation: American Foreign Policy in Retreat; The Shia Revival: How Conflicts within Islam will Shape the Future; and Democracy in Iran. He has also written articles in scholarly journals\, and commentary in The New York Times\, Foreign Affairs\, Financial Times\, The Wall Street Journal and The Washington Post. He is a member of Global Board of Trustees of Asia Society\, the recipient of Carnegie Scholar Award\, and the Frank Guggenheim\, and MacArthur Foundation research fellowships. He was selected as Henry Alfred Kissinger Resident Scholar at Library of Congress for 2024-2025.  \nHe received his Bachelor of Arts from Tufts University in international relations; his master’s from the Fletcher School of Law and Diplomacy in international economics and Middle East studies; and his Ph.D. from MIT in political science.
URL:https://www.chq.org/event/vali-r-nasr/
LOCATION:Amphitheater\, Amphitheater
CATEGORIES:Chautauqua Institution Program,Chautauqua Lecture Series,Weekly Themes,CHQ Assembly,Week Eight (August 15–22)
ATTACH;FMTTYPE=image/jpeg:https://www.chq.org/wp-content/uploads/2025/03/Nasr_Vali_CLS_081225.jpg
END:VEVENT
BEGIN:VEVENT
DTSTART;TZID=America/New_York:20250812T121500
DTEND;TZID=America/New_York:20250812T121500
DTSTAMP:20260424T103622
CREATED:20250325T190051Z
LAST-MODIFIED:20250801T140014Z
UID:91533-1755000900-1755000900@www.chq.org
SUMMARY:Judy Gallagher\, Insects & Macrophotography
DESCRIPTION:BTG Brownbag
URL:https://www.chq.org/event/judy-gallagher-insects-macrophotography/
LOCATION:Smith Wilkes Hall\, Smith Wilkes Hall
CATEGORIES:Climate Change Initiative Program,Community Group Event,Chautauqua Institution Program,Community Group Program,Weekly Themes,Week Five (July 25–August 1)
ATTACH;FMTTYPE=image/jpeg:https://www.chq.org/wp-content/uploads/2023/06/DSC_8300.jpg
END:VEVENT
BEGIN:VEVENT
DTSTART;TZID=America/New_York:20250812T123000
DTEND;TZID=America/New_York:20250812T123000
DTSTAMP:20260424T103622
CREATED:20250410T223106Z
LAST-MODIFIED:20250410T223106Z
UID:91934-1755001800-1755001800@www.chq.org
SUMMARY:CHQ Mystic Heart: Larry Terkel
DESCRIPTION:Larry Terkel\, along with his wife Susan\, founded The Spiritual Life Society\, an inter-denominational center for spiritual and holistic studies\, where he teaches yoga and meditation and gives weekly talks. As its licensed minister\, Larry has officiated at over 2\,000 weddings for couples of all faiths. He is also the founder of Temple Beth Shalom\, in Hudson\, Ohio. Larry and Susan are co-authors of the book\, Small Change: It’s the LITTLE Things in Life That Make a BIG Difference! (Tarcher/Penguin) a finalist for the 2004 National Books for a Better Life Award.
URL:https://www.chq.org/event/chq-mystic-heart-larry-terkel-6/
LOCATION:Hall of Missions\, Hall of Missions
CATEGORIES:Chautauqua Institution Program,Weekly Themes,Week Eight (August 15–22),Faith and Spiritual Programming
ATTACH;FMTTYPE=image/jpeg:https://www.chq.org/wp-content/uploads/2021/05/morningmeditation3_072015_RW_master.jpg
END:VEVENT
BEGIN:VEVENT
DTSTART;TZID=America/New_York:20250812T123000
DTEND;TZID=America/New_York:20250812T123000
DTSTAMP:20260424T103622
CREATED:20250611T010226Z
LAST-MODIFIED:20250611T010226Z
UID:93686-1755001800-1755001800@www.chq.org
SUMMARY:CHQ Dialogues
DESCRIPTION:
URL:https://www.chq.org/event/chq-dialogues-221/
LOCATION:Presbyterian House\, Presbyterian House
CATEGORIES:Chautauqua Institution Program,Weekly Themes,Week Eight (August 15–22)
ATTACH;FMTTYPE=image/jpeg:https://www.chq.org/wp-content/uploads/2023/06/CHQDialogues_event.jpg
END:VEVENT
BEGIN:VEVENT
DTSTART;TZID=America/New_York:20250812T130000
DTEND;TZID=America/New_York:20250812T130000
DTSTAMP:20260424T103622
CREATED:20250517T171505Z
LAST-MODIFIED:20250517T171505Z
UID:92815-1755003600-1755003600@www.chq.org
SUMMARY:Mah Jongg Luncheon
DESCRIPTION:Drop-in mah jongg at the Sports Club directed by PattyArmstrong
URL:https://www.chq.org/event/mah-jongg-luncheon/
LOCATION:Sports Club\, Sports Club
CATEGORIES:Chautauqua Institution Program,Recreation
ATTACH;FMTTYPE=image/jpeg:https://www.chq.org/wp-content/uploads/2023/06/CHQSS19_JB-204.jpg
END:VEVENT
BEGIN:VEVENT
DTSTART;TZID=America/New_York:20250812T140000
DTEND;TZID=America/New_York:20250812T140000
DTSTAMP:20260424T103622
CREATED:20250207T210019Z
LAST-MODIFIED:20250805T140032Z
UID:90062-1755007200-1755007200@www.chq.org
SUMMARY:Chautauqua Theater Company presents the world premiere of The Witnesses (formerly titled Tell Me You’re Dying) (Preview)
DESCRIPTION:By C.A. Johnson\nDirected by Jade King Carroll  \nThe Witnesses compels us to question not only if we can change but if we have time to do so while the world appears to be ending.\nInfused with C.A. Johnson’s brutal honesty\, exacting humor\, and heartfelt exploration of human relationships\, the story pulses with urgency\, vulnerability and unexpected warmth. \nWhile an apocalyptic plague rages\, five individuals unite in their weekly support group to forge a sanctuary of care and companionship. Centering on the darkly funny and wildly magnetic Millicent and her chosen family of misfits\, this play explores the undeniable physical urge for human connection. \nThis production is recommended for audiences ages 13 and older.
URL:https://www.chq.org/event/chautauqua-theater-company-presents-the-world-premiere-of-tell-me-youre-dying-preview/
LOCATION:Bratton Theater\, Bratton Theater
CATEGORIES:Chautauqua Institution Program,Weekly Themes,Week Eight (August 15–22),Theater
ATTACH;FMTTYPE=image/jpeg:https://www.chq.org/wp-content/uploads/2025/05/CTC_2025_EventPhotos_Witnesses.jpg
END:VEVENT
BEGIN:VEVENT
DTSTART;TZID=America/New_York:20250812T140000
DTEND;TZID=America/New_York:20250812T140000
DTSTAMP:20260424T103622
CREATED:20250801T160009Z
LAST-MODIFIED:20250806T181539Z
UID:95647-1755007200-1755007200@www.chq.org
SUMMARY:Brock Bahler
DESCRIPTION:Brock Bahler is a teaching professor and director of undergraduate studies in the religious studies department at Pitt\, where he advocates for more diverse syllabuses\, relates religion to social issues and pushes students to think outside of the box. \nHe earned his PhD in Philosophy from Duquesne University and is the author of Childlike Peace in Merleau-Ponty and Levinas: Intersubjectivity as Dialectical Spiral as well as many academic articles and contributions to edited volumes.
URL:https://www.chq.org/event/brock-bahler/
LOCATION:Hall of Philosophy\, Hall of Philosophy
CATEGORIES:Chautauqua Institution Program,Weekly Themes,CHQ Assembly,Week Eight (August 15–22),Interfaith Lecture Series
ATTACH;FMTTYPE=image/jpeg:https://www.chq.org/wp-content/uploads/2025/08/Bahler_Brock_interfaith_8-12-25_photo-2.jpg
END:VEVENT
BEGIN:VEVENT
DTSTART;TZID=America/New_York:20250812T151500
DTEND;TZID=America/New_York:20250812T151500
DTSTAMP:20260424T103622
CREATED:20250611T131706Z
LAST-MODIFIED:20250702T144625Z
UID:93778-1755011700-1755011700@www.chq.org
SUMMARY:Social Hour at Denominational Houses
DESCRIPTION:Social hour at the Baptist House\, Catholic House\, Christian Church\, Everett Jewish Life Center\, Episcopal Cottage\, Lutheran House\, Unitarian House and United Methodist House
URL:https://www.chq.org/event/social-hour-at-denominational-houses-8/
LOCATION:Denominational Houses (Selected)
CATEGORIES:Community Group Event,Community Group Program,Weekly Themes,Week Eight (August 15–22)
ATTACH;FMTTYPE=image/jpeg:https://www.chq.org/wp-content/uploads/2022/06/20170816_gf_00736.jpg
END:VEVENT
BEGIN:VEVENT
DTSTART;TZID=America/New_York:20250812T153000
DTEND;TZID=America/New_York:20250812T153000
DTSTAMP:20260424T103622
CREATED:20250505T193018Z
LAST-MODIFIED:20250624T153036Z
UID:92578-1755012600-1755012600@www.chq.org
SUMMARY:Heritage Lecture Series: David Kinkela
DESCRIPTION:As part of the Oliver Archives Center’s 2025 Heritage Lecture Series\, Dr. David Kinkela will present “Chautauqua: A Place and an Idea in Progressive Era America”.  \nDr. Kinkela is an environmental historian who explores U.S. history in a global context. His first book\, DDT and the American Century: Global Health\, Environmental Politics\, and the Pesticide That Changed the World (2011) examined the interconnections between U.S. environmentalism and U.S. foreign policy. Currently\, he is working on a number of projects\, including one that explores the history of plastic waste. His research on the history of Chautauqua Institution is part of an NEH funded project and forthcoming edited book Beyond the City: Re-Placing the Gilded Age and Progressive Era (SUNY Press).
URL:https://www.chq.org/event/heritage-lecture-series-david-kinkela/
LOCATION:Hall of Philosophy\, Hall of Philosophy
CATEGORIES:Chautauqua Institution Program,Weekly Themes,Week Eight (August 15–22),Heritage Lecture Series,Special Lectures
ATTACH;FMTTYPE=image/jpeg:https://www.chq.org/wp-content/uploads/2025/05/David-Kinkela-2017-630x840-1.jpg
END:VEVENT
BEGIN:VEVENT
DTSTART;TZID=America/New_York:20250812T160000
DTEND;TZID=America/New_York:20250812T160000
DTSTAMP:20260424T103622
CREATED:20250617T040000Z
LAST-MODIFIED:20250620T171522Z
UID:94087-1755014400-1755014400@www.chq.org
SUMMARY:Play CHQ: Crafting by the Water
DESCRIPTION:Play CHQ invites families to discover\, create\, and play together all season long! Enjoy a variety of engaging activities including games\, crafts\, STEM experiments\, and more at pop-up locations throughout the Chautauqua grounds.  \nIn case of inclement weather\, all Play CHQ events will be relocated to Sheldon Hall of Education\, Room 202.
URL:https://www.chq.org/event/play-chq-crafting-by-the-water-8/
LOCATION:Miller Park\, Miller Park
CATEGORIES:Chautauqua Institution Program,Youth Programs and Activities
ATTACH;FMTTYPE=image/jpeg:https://www.chq.org/wp-content/uploads/2021/06/PlayCHQ_event.jpg
END:VEVENT
BEGIN:VEVENT
DTSTART;TZID=America/New_York:20250812T180000
DTEND;TZID=America/New_York:20250812T180000
DTSTAMP:20260424T103622
CREATED:20250809T161525Z
LAST-MODIFIED:20250809T161525Z
UID:95843-1755021600-1755021600@www.chq.org
SUMMARY:SOULEYMANE'S STORY
DESCRIPTION:Souleymane a Paris food delivery cyclist and asylum seeker\, has two days to prepare his story for a make-or-break interview to secure his legal residency. “Abou Sangaré is magnificent as Souleymane…He is on screen for virtually every second\, and he holds your attention without fail.” -Karl Quinn\, Sydney Morning Herald “If the hero’s dire situation is a ticking clock\, Boris Lojkine’s intelligent and empathetic film places us right alongside him\, with each cog of circumstance and each gear of good fortune grinding against him at every turn.” -Jessica Kiang\, Variety  “Refreshingly human.” -Robert Daniels\, RogerEbert.com (NR\, In French with subtitles. 92m)
URL:https://www.chq.org/event/souleymanes-story-4/
LOCATION:Chautauqua Cinema\, Chautauqua Cinema
CATEGORIES:Movies,Chautauqua Institution Program,Weekly Themes,Week Eight (August 15–22)
END:VEVENT
BEGIN:VEVENT
DTSTART;TZID=America/New_York:20250812T183000
DTEND;TZID=America/New_York:20250812T183000
DTSTAMP:20260424T103622
CREATED:20250410T231606Z
LAST-MODIFIED:20250410T231606Z
UID:91978-1755023400-1755023400@www.chq.org
SUMMARY:Labyrinth History and Meditation
DESCRIPTION:Bring gate pass. Adjacent to Turner Community Center
URL:https://www.chq.org/event/labyrinth-history-and-meditation-8/
LOCATION:Turner (Outside of Building)
CATEGORIES:Chautauqua Institution Program,Weekly Themes,Week Eight (August 15–22),Faith and Spiritual Programming
ATTACH;FMTTYPE=image/jpeg:https://www.chq.org/wp-content/uploads/2022/06/062314_Labyrinth_MB57_Master.jpg
END:VEVENT
BEGIN:VEVENT
DTSTART;TZID=America/New_York:20250812T193000
DTEND;TZID=America/New_York:20250812T193000
DTSTAMP:20260424T103622
CREATED:20250211T231529Z
LAST-MODIFIED:20250805T140032Z
UID:90210-1755027000-1755027000@www.chq.org
SUMMARY:Chautauqua Theater Company presents the world premiere of The Witnesses (formerly titled Tell Me You’re Dying) (Preview)
DESCRIPTION:By C.A. Johnson\nDirected by Jade King Carroll  \nThe Witnesses compels us to question not only if we can change but if we have time to do so while the world appears to be ending.\nInfused with C.A. Johnson’s brutal honesty\, exacting humor\, and heartfelt exploration of human relationships\, the story pulses with urgency\, vulnerability and unexpected warmth. \nWhile an apocalyptic plague rages\, five individuals unite in their weekly support group to forge a sanctuary of care and companionship. Centering on the darkly funny and wildly magnetic Millicent and her chosen family of misfits\, this play explores the undeniable physical urge for human connection. \nThis production is recommended for audiences ages 13 and older.
URL:https://www.chq.org/event/chautauqua-theater-company-presents-the-world-premiere-of-tell-me-youre-dying-preview-4/
LOCATION:Bratton Theater\, Bratton Theater
CATEGORIES:Chautauqua Institution Program,Weekly Themes,Week Eight (August 15–22),Theater
ATTACH;FMTTYPE=image/jpeg:https://www.chq.org/wp-content/uploads/2025/05/CTC_2025_EventPhotos_Witnesses.jpg
END:VEVENT
BEGIN:VEVENT
DTSTART;TZID=America/New_York:20250812T201500
DTEND;TZID=America/New_York:20250812T201500
DTSTAMP:20260424T103622
CREATED:20250317T140000Z
LAST-MODIFIED:20250710T171515Z
UID:91254-1755029700-1755029700@www.chq.org
SUMMARY:Chautauqua Symphony Orchestra: Classical Remix
DESCRIPTION:Rossen Milanov\, conductor\nJaren Atherholt\, oboe\nNoah Kay\, oboe \nJoin conductor Rossen Milanov for a dynamic evening of orchestral elegance\, innovation\, and charm. Mozart’s Idomeneo Ballet Music opens with regal grace\, leading to Viet Cuong’s Extra(ordinarily) Fancy\, a dazzling new concerto showcasing the brilliance of Chautauqua Symphony Orchestra oboists Jaren Atherholt and Noah Kay. The journey continues with Anna Clyne’s atmospheric This Moment before concluding with the youthful energy and lyricism of Schubert’s Symphony No. 3\, making for a night of musical surprises and pure delight! \nProgram:\nW.A. Mozart: Idomeneo Ballet Music\nViet Cuong: Extra(ordinarily) Fancy Concerto for 2 oboes and orchestra\nAnna Clyne: This Moment\nFranz Schubert: Symphony No. 3\, D. 200
URL:https://www.chq.org/event/chautauqua-symphony-orchestra-classical-remix/
LOCATION:Amphitheater\, Amphitheater
CATEGORIES:Chautauqua Institution Program,Weekly Themes,Chautauqua Symphony Orchestra/Classical Concerts,Week Eight (August 15–22)
ATTACH;FMTTYPE=image/jpeg:https://www.chq.org/wp-content/uploads/2023/02/CSO_2023_RossenMilanov.jpg
END:VEVENT
BEGIN:VEVENT
DTSTART;TZID=America/New_York:20250812T203000
DTEND;TZID=America/New_York:20250812T203000
DTSTAMP:20260424T103622
CREATED:20250809T163024Z
LAST-MODIFIED:20250809T163024Z
UID:95844-1755030600-1755030600@www.chq.org
SUMMARY:SECRET MALL APARTMENT
DESCRIPTION:In 2003\, eight Rhode Islanders created a secret apartment inside the busy Providence Place Mall and kept it going for four years\, filming everything along the way. Far more than just a wild prank\, the secret mall apartment became an incredibly meaningful act for all the participants\, at once an act of defiance against local gentrification\, a boundary-pushing work of public/private art\, and a 750 square foot space that sticks it to the man. “A profoundly humane portrait of creativity and community.” -Ann Hornaday\, Washington Post  (NR\, 91m)
URL:https://www.chq.org/event/secret-mall-apartment-3/
LOCATION:Chautauqua Cinema\, Chautauqua Cinema
CATEGORIES:Movies,Chautauqua Institution Program,Weekly Themes,Week Eight (August 15–22)
END:VEVENT
END:VCALENDAR