BEGIN:VCALENDAR
VERSION:2.0
PRODID:-//Chautauqua Institution - ECPv6.15.20//NONSGML v1.0//EN
CALSCALE:GREGORIAN
METHOD:PUBLISH
X-WR-CALNAME:Chautauqua Institution
X-ORIGINAL-URL:https://www.chq.org
X-WR-CALDESC:Events for Chautauqua Institution
REFRESH-INTERVAL;VALUE=DURATION:PT1H
X-Robots-Tag:noindex
X-PUBLISHED-TTL:PT1H
BEGIN:VTIMEZONE
TZID:America/New_York
BEGIN:DAYLIGHT
TZOFFSETFROM:-0500
TZOFFSETTO:-0400
TZNAME:EDT
DTSTART:20240310T070000
END:DAYLIGHT
BEGIN:STANDARD
TZOFFSETFROM:-0400
TZOFFSETTO:-0500
TZNAME:EST
DTSTART:20241103T060000
END:STANDARD
BEGIN:DAYLIGHT
TZOFFSETFROM:-0500
TZOFFSETTO:-0400
TZNAME:EDT
DTSTART:20250309T070000
END:DAYLIGHT
BEGIN:STANDARD
TZOFFSETFROM:-0400
TZOFFSETTO:-0500
TZNAME:EST
DTSTART:20251102T060000
END:STANDARD
BEGIN:DAYLIGHT
TZOFFSETFROM:-0500
TZOFFSETTO:-0400
TZNAME:EDT
DTSTART:20260308T070000
END:DAYLIGHT
BEGIN:STANDARD
TZOFFSETFROM:-0400
TZOFFSETTO:-0500
TZNAME:EST
DTSTART:20261101T060000
END:STANDARD
END:VTIMEZONE
BEGIN:VEVENT
DTSTART;TZID=America/New_York:20250823T071500
DTEND;TZID=America/New_York:20250823T071500
DTSTAMP:20260423T154126
CREATED:20250410T221535Z
LAST-MODIFIED:20250410T221535Z
UID:91824-1755933300-1755933300@www.chq.org
SUMMARY:CHQ Mystic Heart Meditation: Carol McKiernan
DESCRIPTION:Carol McKiernan grew up at Chautauqua and says that her love of mystical practices began here on the grounds. She was formally introduced to meditation many years ago at an off-season yoga and meditation retreat led by Subagh Singh Khalsa and has been practicing Centering Prayer daily ever since. She has attended many seminars\, workshops\, and retreats offered by Contemplative Outreach\, founded by the late Father Thomas Keating\, a Trappist Monk who was instrumental in the creation of Centering Prayer. Carol practices Centering Prayer with weekly groups in Campus Ministry at Villanova University and at St. David’s Episcopal Church outside of Philadelphia. She has led and participated in many Centering Prayer workshops and groups in the areas surrounding her hometown of Philadelphia. She is a member of the Augustinian Affiliates\, the lay order of the Augustinian Friars and volunteers for the Friars in the Villanova Province. Carol is a past board member and treasurer of the Chautauqua Catholic Community.
URL:https://www.chq.org/event/chq-mystic-heart-meditation-carol-mckiernan-8/
LOCATION:Hall of Philosophy\, Hall of Philosophy
CATEGORIES:Chautauqua Institution Program,Weekly Themes,Week Nine (August 22–30),Faith and Spiritual Programming
ATTACH;FMTTYPE=image/jpeg:https://www.chq.org/wp-content/uploads/2022/06/hall_philosophy2-1.jpg
END:VEVENT
BEGIN:VEVENT
DTSTART;TZID=America/New_York:20250823T093000
DTEND;TZID=America/New_York:20250823T093000
DTSTAMP:20260423T154126
CREATED:20250611T131629Z
LAST-MODIFIED:20250620T163016Z
UID:93767-1755941400-1755941400@www.chq.org
SUMMARY:Torah Study
DESCRIPTION:
URL:https://www.chq.org/event/torah-study-9/
LOCATION:Hurlbut Marion Lawrance
CATEGORIES:Community Group Event,Community Group Program,Weekly Themes,Week Nine (August 22–30)
ATTACH;FMTTYPE=image/jpeg:https://www.chq.org/wp-content/uploads/2021/05/HurlbutChurch.jpg
END:VEVENT
BEGIN:VEVENT
DTSTART;TZID=America/New_York:20250823T093000
DTEND;TZID=America/New_York:20250823T093000
DTSTAMP:20260423T154126
CREATED:20250611T131714Z
LAST-MODIFIED:20250611T131714Z
UID:93783-1755941400-1755941400@www.chq.org
SUMMARY:Chabad Jewish House\, Community Shabbat Service\, Rabbi Zalman Vilenken
DESCRIPTION:
URL:https://www.chq.org/event/chabad-jewish-house-community-shabbat-service-rabbi-zalman-vilenken-9/
LOCATION:Chabad Jewish House
CATEGORIES:Community Group Event,Community Group Program,Weekly Themes,Week Nine (August 22–30)
ATTACH;FMTTYPE=image/jpeg:https://www.chq.org/wp-content/uploads/2023/03/071522_SunriseKayking_GP_03.jpg
END:VEVENT
BEGIN:VEVENT
DTSTART;TZID=America/New_York:20250823T103000
DTEND;TZID=America/New_York:20250823T103000
DTSTAMP:20260423T154126
CREATED:20250611T131648Z
LAST-MODIFIED:20250620T163019Z
UID:93771-1755945000-1755945000@www.chq.org
SUMMARY:Sabbath Morning Worship\, Hebrew Congregation
DESCRIPTION:
URL:https://www.chq.org/event/sabbath-morning-worship-hebrew-congregation-18/
LOCATION:Hurlbut Church sanctuary\, Hurlbut Church sanctuary
CATEGORIES:Community Group Event,Community Group Program,Weekly Themes,Week Nine (August 22–30)
ATTACH;FMTTYPE=image/jpeg:https://www.chq.org/wp-content/uploads/2022/06/20170816_gf_00736.jpg
END:VEVENT
BEGIN:VEVENT
DTSTART;TZID=America/New_York:20250823T113000
DTEND;TZID=America/New_York:20250823T113000
DTSTAMP:20260423T154126
CREATED:20250620T161535Z
LAST-MODIFIED:20250702T143104Z
UID:94241-1755948600-1755948600@www.chq.org
SUMMARY:Kiddish Luncheon
DESCRIPTION:
URL:https://www.chq.org/event/kiddish-luncheon-9/
LOCATION:Hurlbut Truesdale
ATTACH;FMTTYPE=image/jpeg:https://www.chq.org/wp-content/uploads/2022/06/072419_Ambience_GF_02.jpg
END:VEVENT
BEGIN:VEVENT
DTSTART;TZID=America/New_York:20250823T140000
DTEND;TZID=America/New_York:20250823T140000
DTSTAMP:20260423T154126
CREATED:20250211T231533Z
LAST-MODIFIED:20250805T140035Z
UID:90216-1755957600-1755957600@www.chq.org
SUMMARY:Chautauqua Theater Company presents the world premiere of The Witnesses (formerly titled Tell Me You’re Dying)
DESCRIPTION:By C.A. Johnson\nDirected by Jade King Carroll  \nThe Witnesses compels us to question not only if we can change but if we have time to do so while the world appears to be ending.\nInfused with C.A. Johnson’s brutal honesty\, exacting humor\, and heartfelt exploration of human relationships\, the story pulses with urgency\, vulnerability and unexpected warmth. \nWhile an apocalyptic plague rages\, five individuals unite in their weekly support group to forge a sanctuary of care and companionship. Centering on the darkly funny and wildly magnetic Millicent and her chosen family of misfits\, this play explores the undeniable physical urge for human connection. \nThis production is recommended for audiences ages 13 and older.
URL:https://www.chq.org/event/chautauqua-theater-company-presents-the-world-premiere-of-tell-me-youre-dying-6/
LOCATION:Bratton Theater\, Bratton Theater
CATEGORIES:Chautauqua Institution Program,Weekly Themes,Week Nine (August 22–30),Theater
ATTACH;FMTTYPE=image/jpeg:https://www.chq.org/wp-content/uploads/2025/05/CTC_2025_EventPhotos_Witnesses.jpg
END:VEVENT
BEGIN:VEVENT
DTSTART;TZID=America/New_York:20250823T180000
DTEND;TZID=America/New_York:20250823T180000
DTSTAMP:20260423T154126
CREATED:20250806T211527Z
LAST-MODIFIED:20250807T173048Z
UID:95777-1755972000-1755972000@www.chq.org
SUMMARY:EVERYTHING'S GOING TO BE GREAT
DESCRIPTION:Buddy Smart (Bryan Cranston) wrestles with his over-sized showbiz dreams. His wife Macy (Allison Janney) struggles to keep their family afloat. As they grapple with identity and belonging\, they share a humorous and heartfelt journey of self-discovery\, learning the power of owning your spotlight no matter what stage of life you’re in. Director “Jon S. Baird’s kind and cutting drama about a family trying\, failing\, and trying all over again to make it in the theater is a heartening drama and a great big smile of a comedy.” -William Bibbiani\, TheWrap (R\, 95m)
URL:https://www.chq.org/event/everythings-going-to-be-great/
LOCATION:Chautauqua Cinema\, Chautauqua Cinema
CATEGORIES:Movies,Chautauqua Institution Program,Weekly Themes,Week Nine (August 22–30)
ATTACH;FMTTYPE=image/jpeg:https://www.chq.org/wp-content/uploads/2025/08/EverythingsGoingToBeGreat.jpg
END:VEVENT
BEGIN:VEVENT
DTSTART;TZID=America/New_York:20250823T201500
DTEND;TZID=America/New_York:20250823T201500
DTSTAMP:20260423T154126
CREATED:20250325T140000Z
LAST-MODIFIED:20250821T210018Z
UID:90967-1755980100-1755980100@www.chq.org
SUMMARY:Sweet Honey in the Rock®  “Celebrating 50 Years”
DESCRIPTION:The Grammy-nominated African American vocal ensemble SWEET HONEY IN THE ROCK® marks its 50TH ANNIVERSARY in November 2023 with a powerful three-year celebration that will honor its storied past and set the course for the future of the group\, which has been described as\, “one of the most dynamic\, versatile and still relevant musical collectives today.” \nSince its inception in Washington\, D.C. (1973)\, Sweet Honey in the Rock has thrived as a performance ensemble founded on the missions of empowerment\, education\, and entertainment. \nTheir current roster includes vocalists Carol Maillard\, Louise Robinson\, Aisha Kahlil\, Nitanju Bolade Casel\, and Rochelle Rice\, with Romeir Mendez on upright acoustic/electric bass\, and American Sign Language interpreter\, Barbara Hunt. \nThroughout five decades\, the ensemble members have worked to create engaging and socially conscious music that consistently takes an active stance toward making our planet a better place for all in which to live. Their musical landscape embraces multiple genres/generations and addresses civil & human rights\, women’s issues\, gun violence\, death\, love\, spirituality\, children’s songs and so much more.
URL:https://www.chq.org/event/sweet-honey-in-the-rock-celebrating-50-years/
LOCATION:Amphitheater\, Amphitheater
CATEGORIES:Chautauqua Institution Program,Weekly Themes,Week Nine (August 22–30),Popular Entertainment & Concerts
ATTACH;FMTTYPE=image/jpeg:https://www.chq.org/wp-content/uploads/2025/02/SHIR2019-Credit-Christopher_Robinson.jpg
END:VEVENT
BEGIN:VEVENT
DTSTART;TZID=America/New_York:20250823T203000
DTEND;TZID=America/New_York:20250823T203000
DTSTAMP:20260423T154126
CREATED:20250806T211529Z
LAST-MODIFIED:20250807T173050Z
UID:95780-1755981000-1755981000@www.chq.org
SUMMARY:PERFECT DAYS
DESCRIPTION:Hirayama (Kôji Yakusho) seems utterly content with his simple life as a cleaner of Tokyo public toilets in director Wim Wenders’ deeply moving and poetic reflection on finding beauty in the everyday world around us. “It’s all about finding the simple joys in your daily existence.” -Christy Lemire\, Breakfast All Day  “Jonathan Livingston Lavatory Cleaner. Zen and the Art of Lavatory Maintenance. But better than that. Sharper\, less sentimental\, less aphoristic. A film to live your life by.” -Donald Clarke\, Irish Times “Perhaps\, in its polite and unassuming way\, the film advocates not just a new way of looking\, but also a new way of living.” -Wendy Ide\, Observer (UK) (PG\, In Japanese with subtitles. 124m)
URL:https://www.chq.org/event/perfect-days-2/
LOCATION:Chautauqua Cinema\, Chautauqua Cinema
CATEGORIES:Movies,Chautauqua Institution Program,Weekly Themes,Week Nine (August 22–30)
ATTACH;FMTTYPE=image/jpeg:https://www.chq.org/wp-content/uploads/2025/08/PerfectDays.jpg
END:VEVENT
END:VCALENDAR