BEGIN:VCALENDAR
VERSION:2.0
PRODID:-//Chautauqua Institution - ECPv6.15.20//NONSGML v1.0//EN
CALSCALE:GREGORIAN
METHOD:PUBLISH
X-WR-CALNAME:Chautauqua Institution
X-ORIGINAL-URL:https://www.chq.org
X-WR-CALDESC:Events for Chautauqua Institution
REFRESH-INTERVAL;VALUE=DURATION:PT1H
X-Robots-Tag:noindex
X-PUBLISHED-TTL:PT1H
BEGIN:VTIMEZONE
TZID:America/New_York
BEGIN:DAYLIGHT
TZOFFSETFROM:-0500
TZOFFSETTO:-0400
TZNAME:EDT
DTSTART:20250309T070000
END:DAYLIGHT
BEGIN:STANDARD
TZOFFSETFROM:-0400
TZOFFSETTO:-0500
TZNAME:EST
DTSTART:20251102T060000
END:STANDARD
BEGIN:DAYLIGHT
TZOFFSETFROM:-0500
TZOFFSETTO:-0400
TZNAME:EDT
DTSTART:20260308T070000
END:DAYLIGHT
BEGIN:STANDARD
TZOFFSETFROM:-0400
TZOFFSETTO:-0500
TZNAME:EST
DTSTART:20261101T060000
END:STANDARD
BEGIN:DAYLIGHT
TZOFFSETFROM:-0500
TZOFFSETTO:-0400
TZNAME:EDT
DTSTART:20270314T070000
END:DAYLIGHT
BEGIN:STANDARD
TZOFFSETFROM:-0400
TZOFFSETTO:-0500
TZNAME:EST
DTSTART:20271107T060000
END:STANDARD
END:VTIMEZONE
BEGIN:VEVENT
DTSTART;TZID=America/New_York:20260823T120000
DTEND;TZID=America/New_York:20260828T200000
DTSTAMP:20260421T105240
CREATED:20260120T201524Z
LAST-MODIFIED:20260408T151526Z
UID:97534-1787486400-1787947200@www.chq.org
SUMMARY:Week Nine: Reimagined Food Festival
DESCRIPTION:Savor a week of elevated culinary experiences with our reimagined Food Festival. With only 80 packages per week\, enjoy intimate moments across the grounds\, from two Masters Series classes and five Bestor Plaza demos to a lively Weekly Feast of Friends. Your package also includes a Premium Chef’s Dinner\, family‑friendly Feast on Film\, a Craft Beverage Tasting and the flavor‑packed Taste Caravan featuring five lunches and two dinners. Cap your experience off with the high‑energy Battle of the Bites and the celebratory Taste of Chautauqua. \nPackage includes:\n2 Master Series Classes\nSunday Feast with Friends Ticket\n1 Premium Chef’s Dinner\nFeast on Film Event\n1 Premium Craft Beverage Tasting Event\nExperience Taste Caravan\nBattle of the Bites Tasting Event\nTaste of Chautauqua  \nPlus\, a limited merch package\, $50 in food truck tickets for the taste caravan and a popcorn and soda for Feast on Film.  \nPackage price: $505 \nOnly 80 packages are available each week. Purchase by calling 716-357-6250.  \n*Packages available for week’s eight & nine. Packages do not provide standalone access to Chautauqua’s grounds and must be purchased in addition to your gate passes.
URL:https://www.chq.org/event/week-nine-food-festival/
CATEGORIES:Chautauqua Institution Program,Weekly Themes,Week Nine (August 22–30),Culinary Experiences,Festivals
ATTACH;FMTTYPE=image/jpeg:https://www.chq.org/wp-content/uploads/2022/02/FoodFestival_Banner_web.jpg
END:VEVENT
BEGIN:VEVENT
DTSTART;TZID=America/New_York:20260827T091500
DTEND;TZID=America/New_York:20260827T091500
DTSTAMP:20260421T105240
CREATED:20250930T040000Z
LAST-MODIFIED:20260213T201523Z
UID:96594-1787822100-1787822100@www.chq.org
SUMMARY:Fr. Gregory Boyle\, S.J.
DESCRIPTION:Fr. Greg Boyle\, S.J.\, is a Jesuit priest and the founder of Homeboy Industries. Based in Los Angeles\, the organization is the largest gang intervention\, rehabilitation and re-entry program in the world.  \nFrom 1986 to 1992 Boyle served as pastor of Dolores Mission Church\, then the poorest Catholic parish in Los Angeles\, and the one with the highest concentration of gang activity. In the face of law enforcement tactics and criminal justice policies of suppression and mass incarceration as the means to end gang violence\, Boyle and parish and community members adopted what was a radical approach at the time: treat gang members as human beings.  \nIn 1988 they began what would eventually become Homeboy Industries\, which employs and trains former gang members in a range of social enterprises\, and provides critical services to thousands of people who walk through its doors every year seeking a better life.   \nBoyle is the author of the 2010 New York Times bestseller\, Tattoos on the Heart: The Power of Boundless Compassion\, as well as Barking to the Choir: The Power of Radical Kinship\, and The Whole Language: The Power of Extravagant Tenderness. Most recently\, he authored Forgive Everyone Everything\, an anthology of writings accompanied by Fabian Debora’s artwork.  \nRecently\, Boyle was a recipient of the 2025 Civic Renewal Award from the Center for Christianity and Public Life. In 2024\, Boyle received the Presidential Medal of Freedom from President Joseph Biden. Homeboy Industries was awarded the 2020 Hilton Humanitarian Prize\, and Boyle was the recipient of University of Notre Dame’s 2017 Laetare Medal\, the oldest honor given to American Catholics. In 2014\, President Barack Obama named him a Champion of Change. Boyle has also received the California Peace Prize and been inducted into the California Hall of Fame.
URL:https://www.chq.org/event/fr-gregory-boyle-s-j-5/
LOCATION:Hall of Philosophy\, Hall of Philosophy
CATEGORIES:Chautauqua Institution Program,Weekly Themes,CHQ Assembly,Week Nine (August 22–30),Faith and Spiritual Programming,Weekly Chaplains
ATTACH;FMTTYPE=image/jpeg:https://www.chq.org/wp-content/uploads/2025/10/Chaplain_2026_Wk9_Boyle.jpg
END:VEVENT
BEGIN:VEVENT
DTSTART;TZID=America/New_York:20260827T113000
DTEND;TZID=America/New_York:20260827T113000
DTSTAMP:20260421T105240
CREATED:20260408T170040Z
LAST-MODIFIED:20260414T193108Z
UID:98810-1787830200-1787830200@www.chq.org
SUMMARY:Taste Caravan
DESCRIPTION:A moving feast of regional flavor. Taste Caravan transforms Bestor Plaza into a rotating showcase of the area’s most exciting restaurants and food trucks\, offering guests the opportunity to sample 15–20 different regional establishments each week through thoughtfully prepared small bites.  \nFood trucks will be available:  \nMonday–Friday\, 11:30 a.m.–2:30 p.m. (Lunch)  \nTuesday & Friday\, 4:30–8:00 p.m. (Dinner)  \nVendors rotate throughout the week\, and all offer small bites so guests are encouraged to return often so they can explore the wide range of cuisines\, cooking styles\, flavors and culinary voices—all in one vibrant\, walkable destination located just outside the Amphitheater in Bestor Plaza.  \nDuring each Taste Caravan lunch service\, guests can enjoy a live culinary demonstration or discussion in the plaza\, creating an immersive experience where learning\, conversation\, and flavor come together. Whether you’re grabbing a quick bite or lingering to sample multiple offerings\, Taste Caravan invites you to taste broadly\, learn deeply\, and celebrate the diversity of our regional food community.  \nFood/Drink Tickets:  \nAll food vendors only accept Food Festival tickets for payment. The Athenaeum Hotel Beverage Tent & Lounge will accept tickets\, cash or card. Tickets can be purchased from one of the two information and ticket tents located within steps of the food vendors.   \n5 Pack of Tickets: $10
URL:https://www.chq.org/event/taste-caravan-12/
LOCATION:Bestor Plaza\, Bestor Plaza
CATEGORIES:Special Events,Community Group Event,Chautauqua Institution Program,Community Group Program,Weekly Themes,Week Nine (August 22–30),Culinary Experiences,Festivals
ATTACH;FMTTYPE=image/png:https://www.chq.org/wp-content/uploads/2026/04/TasteCaravan_08XX17_food_trucks_features_mpo_02.png
END:VEVENT
BEGIN:VEVENT
DTSTART;TZID=America/New_York:20260827T130000
DTEND;TZID=America/New_York:20260827T130000
DTSTAMP:20260421T105240
CREATED:20260408T170041Z
LAST-MODIFIED:20260414T200108Z
UID:98811-1787835600-1787835600@www.chq.org
SUMMARY:Bestor Plaza Demo/Talks
DESCRIPTION:Big flavor meets big ideas in Bestor Plaza. Enjoy a dynamic lineup of live culinary demonstrations and discussions featuring chefs\, artisans\, and community partners from across the region and beyond. These engaging sessions spotlight innovative techniques\, cultural traditions\, sustainability practices\, and the stories behind the food we love.  \nHeld daily during the Taste Caravan\, each demonstration or talk runs from approximately 1:00–1:45 p.m. and offers guests the chance to learn\, ask questions\, and connect directly with experts—all while enjoying small bites from the surrounding food vendors.  \nFeatured topics will include a discussion on innovative approaches to tackling food insecurity with 412 Food Rescue\, the cultural significance of matzo ball soup and challah bread—with hands on challah braiding guests can take home—live fish breakdowns showcase the preparation process for both restaurant and home chefs\, and much more. Programming will showcase something new each day\, highlighting regional chefs\, culinary professionals\, and community organizations.  \nAll demonstrations and talks are free to watch and designed to complement the vibrant flavors and energy of the Taste Caravan\, making them the perfect midday stop for inspiration\, learning\, and delicious discovery.
URL:https://www.chq.org/event/bestor-plaza-demo-talks/
LOCATION:Bestor Plaza\, Bestor Plaza
CATEGORIES:Special Events,Community Group Event,Chautauqua Institution Program,Community Group Program,Weekly Themes,Week Nine (August 22–30),Culinary Experiences,Festivals
ATTACH;FMTTYPE=image/png:https://www.chq.org/wp-content/uploads/2026/04/Demo_08XX17_Cheeseburger-Challenge_mpo_03.png
END:VEVENT
BEGIN:VEVENT
DTSTART;TZID=America/New_York:20260827T153000
DTEND;TZID=America/New_York:20260827T153000
DTSTAMP:20260421T105240
CREATED:20260415T140000Z
LAST-MODIFIED:20260417T201557Z
UID:98894-1787844600-1787844600@www.chq.org
SUMMARY:Masters Series Culinary Masterclass: Sysco Chefs
DESCRIPTION:As Food Fest winds down\, there is still plenty to experience with two of Sysco’s finest chefs\, Brian Barcus and Joe Bucci\, who will demonstrate their expertise in the kitchen. This masterclass will showcase their combined nearly half a century of culinary artistry. Both chefs have careers filled with fine dining creations in a Michelin starred restaurant\, associations with the best chefs in their fields and represent the finest specialty food ingredients in the world! Get inspired to take some Food Fest practical knowledge home with you and re-create these tasty dishes once you leave Chautauqua!
URL:https://www.chq.org/event/masters-series-masterclass-food-fest-sysco-chef-cooking-demo/
LOCATION:Norton Hall\, Norton Hall
CATEGORIES:Chautauqua Institution Program,Weekly Themes,Week Nine (August 22–30),Featured Events,Festivals,Master Class
ATTACH;FMTTYPE=image/png:https://www.chq.org/wp-content/uploads/2026/04/Battle-of-the-Bites_20170821_ls_02021.png
END:VEVENT
BEGIN:VEVENT
DTSTART;TZID=America/New_York:20260827T170000
DTEND;TZID=America/New_York:20260827T170000
DTSTAMP:20260421T105240
CREATED:20260408T170042Z
LAST-MODIFIED:20260414T201607Z
UID:98812-1787850000-1787850000@www.chq.org
SUMMARY:Premium Tasting Event
DESCRIPTION:Sip\, swirl\, and savor at this lively Premium Craft Beverage Tasting Event\, an interactive evening designed to showcase exciting wines\, craft beers\, and artisanal spirits you may not have encountered before. Set in the heart of Bestor Plaza\, this social tasting experience invites guests to explore new flavors\, discover emerging brands\, and connect directly with the people behind the products.  \nThroughout the evening\, guests will enjoy a curated selection of beverages alongside thoughtfully paired small bites\, guided by knowledgeable producers and beverage experts who can speak to the craftsmanship\, origin\, and unique character of each offering. From innovative flavor profiles to time-honored techniques\, the focus is on discovery\, conversation\, and appreciation.  \nPresented in partnership with regional producers and collaborators\, the Premium Craft Beverage Tasting Event creates a relaxed\, welcoming atmosphere where curiosity is encouraged and favorites are found. Whether you’re a seasoned enthusiast or simply eager to try something new\, this event offers an engaging way to taste\, learn\, and celebrate the creativity shaping today’s beverage landscape.  \nPerfect as an evening gathering with friends—or a flavorful complement to other Food Festival programming—this tasting event highlights the joy of sharing great drinks\, great food\, and great company.  \nThose interested in this event may also enjoy the Masters Series Class: From Spirit to Shelf — Inside Mezcal & Whiskey Manufacturing in Mexico\, presented by Laiki Spirits on Thursday\, August 20. This in depth conversation offers a behind-the-scenes look at the production\, culture\, and global journey of some of the spirits featured at the tastings—providing a deeper understanding of the craftsmanship behind what’s in your glass.
URL:https://www.chq.org/event/premium-tasting-event/
LOCATION:Bestor Plaza\, Bestor Plaza
CATEGORIES:Special Events,Community Group Event,Chautauqua Institution Program,Community Group Program,Weekly Themes,Week Nine (August 22–30),Culinary Experiences,Festivals
ATTACH;FMTTYPE=image/png:https://www.chq.org/wp-content/uploads/2026/04/PremiumTasting_080125_BestorBeers_TB_05.png
END:VEVENT
END:VCALENDAR